BEGIN:VCALENDAR
VERSION:2.0
PRODID:-//Bitterroot Valley Chamber of Commerce - ECPv6.15.15//NONSGML v1.0//EN
CALSCALE:GREGORIAN
METHOD:PUBLISH
X-WR-CALNAME:Bitterroot Valley Chamber of Commerce
X-ORIGINAL-URL:https://bitterrootchamber.com
X-WR-CALDESC:Events for Bitterroot Valley Chamber of Commerce
REFRESH-INTERVAL;VALUE=DURATION:PT1H
X-Robots-Tag:noindex
X-PUBLISHED-TTL:PT1H
BEGIN:VTIMEZONE
TZID:America/Denver
BEGIN:DAYLIGHT
TZOFFSETFROM:-0700
TZOFFSETTO:-0600
TZNAME:MDT
DTSTART:20250309T090000
END:DAYLIGHT
BEGIN:STANDARD
TZOFFSETFROM:-0600
TZOFFSETTO:-0700
TZNAME:MST
DTSTART:20251102T080000
END:STANDARD
BEGIN:DAYLIGHT
TZOFFSETFROM:-0700
TZOFFSETTO:-0600
TZNAME:MDT
DTSTART:20260308T090000
END:DAYLIGHT
BEGIN:STANDARD
TZOFFSETFROM:-0600
TZOFFSETTO:-0700
TZNAME:MST
DTSTART:20261101T080000
END:STANDARD
BEGIN:DAYLIGHT
TZOFFSETFROM:-0700
TZOFFSETTO:-0600
TZNAME:MDT
DTSTART:20270314T090000
END:DAYLIGHT
BEGIN:STANDARD
TZOFFSETFROM:-0600
TZOFFSETTO:-0700
TZNAME:MST
DTSTART:20271107T080000
END:STANDARD
END:VTIMEZONE
BEGIN:VEVENT
DTSTART;VALUE=DATE:20260313
DTEND;VALUE=DATE:20260617
DTSTAMP:20260419T093300
CREATED:20260227T225256Z
LAST-MODIFIED:20260227T225256Z
UID:10009501-1773360000-1781654399@bitterrootchamber.com
SUMMARY:Gull Boats and RV Boat Show
DESCRIPTION:Boat Show
URL:https://bitterrootchamber.com/event/gull-boats-and-rv-boat-show/
LOCATION:Ravalli County Fairgrounds\, 100 Old Corvallis Rd\, Hamilton\, 59840\, United States
CATEGORIES:Community Events
END:VEVENT
BEGIN:VEVENT
DTSTART;TZID=America/Denver:20260509T090000
DTEND;TZID=America/Denver:20260509T180000
DTSTAMP:20260419T093300
CREATED:20260401T225557Z
LAST-MODIFIED:20260415T151006Z
UID:10009574-1778317200-1778349600@bitterrootchamber.com
SUMMARY:Get Ready for HomeOwnership Homebuyer Education Class
DESCRIPTION:Get Ready for HomeOwnership with Homeword! \nOnline via Zoom\, May 9\, 9 am – 6 pm. \nNo matter where you are on your journey to homeownership\, our nationally certified homebuyer class is for you. You will learn how to: \n\nSelect a lender\nDetermine what you can afford\nUse your credit wisely\nDistinguish between different types of loans\nUnderstand home inspections and insurance\nIdentify special financing programs\nWork with a real estate professional\nEvaluate the pros and cons of homeownership\n\nOffered monthly\, this course is taught by Homeword HUD Certified Housing Counselor and Homebuyer Educator Alex Ramsing and other professionals in the community who volunteer their time by providing expert instruction on a range of topics. \nRegistration is required. Questions? Call 406-532-4663 x10 or email info@homeword.org.
URL:https://bitterrootchamber.com/event/get-ready-for-homeownership-homebuyer-education-class/
LOCATION:Virtual
CATEGORIES:Community Events
ATTACH;FMTTYPE=image/jpeg:https://bitterrootchamber.com/wp-content/uploads/2026/03/New-HBE-Class-2-Instagram.jpg
ORGANIZER;CN="Homeword":MAILTO:info@homeword.org
END:VEVENT
BEGIN:VEVENT
DTSTART;TZID=America/Denver:20260509T100000
DTEND;TZID=America/Denver:20260509T130000
DTSTAMP:20260419T093300
CREATED:20260227T223129Z
LAST-MODIFIED:20260323T201405Z
UID:10009499-1778320800-1778331600@bitterrootchamber.com
SUMMARY:Cardboard and Glass Recycling
DESCRIPTION:Cardboard and Glass recycling services in the north lot
URL:https://bitterrootchamber.com/event/cardboard-and-glass-recycling/
LOCATION:Ravalli County Fairgrounds\, 100 Old Corvallis Rd\, Hamilton\, 59840\, United States
CATEGORIES:Community Events
END:VEVENT
BEGIN:VEVENT
DTSTART;TZID=America/Denver:20260509T100000
DTEND;TZID=America/Denver:20260509T160000
DTSTAMP:20260419T093300
CREATED:20260227T223044Z
LAST-MODIFIED:20260227T223044Z
UID:10009498-1778320800-1778342400@bitterrootchamber.com
SUMMARY:Treasure Chest Events Mother's Day Craft Market
DESCRIPTION:The Mother’s Day Craft Market at Ravalli County Fairgrounds is the perfect place to purchase that one-of-a-kind locally made gift for the special moms in your life. With a building full of vendors\, the possibilities are endless! Homemade and Custom Made one-of-a-kind gifts are sure to make the Mom in your life happy! There will also be a food truck on site. Bring the kids for a family-friendly shopping experience! So much to see and do from our amazing vendor’s with The Silver Coin and Willie’s Distillery serving up their amazing Mother’s day specials. Fun for the entire family. Head down to Ravalli County Fairgrounds May 9th and enjoy the day. Open 10am-4pm Free Admission Vendor spaces: 10×10 Inside: $58.00
URL:https://bitterrootchamber.com/event/treasure-chest-events-mothers-day-craft-market/
LOCATION:Ravalli County Fairgrounds\, 100 Old Corvallis Rd\, Hamilton\, 59840\, United States
CATEGORIES:Community Events
ATTACH;FMTTYPE=image/jpeg:https://bitterrootchamber.com/wp-content/uploads/2026/02/Document-4.jpg
ORGANIZER;CN="Treasure Chest Events":MAILTO:TreasureChestEventsMt@gmail.com
END:VEVENT
BEGIN:VEVENT
DTSTART;TZID=America/Denver:20260509T100000
DTEND;TZID=America/Denver:20260509T170000
DTSTAMP:20260419T093300
CREATED:20260410T221114Z
LAST-MODIFIED:20260410T221114Z
UID:10009607-1778320800-1778346000@bitterrootchamber.com
SUMMARY:Small but Mighty: Growing Strong from Farm to Table experience
DESCRIPTION:Bitterroot Discovery Children’s Museum is pleased to announce our next month-long experience! Our wonderful friends at Sapphire Early Learning Center in Stevensville have generously allowed us to use a portion of their facility for the month of May to bring you “Small but Mighty: Growing Strong from Farm to Table.” \n\n\nStep into a world where food\, farms\, and buzzing pollinators come to life! Our new experience is a hands-on\, family-friendly chance for kids and caregivers to explore how food makes its way from soil to supper\, and how it helps our bodies grow strong. Through interactive play\, children will discover the important roles of gardens\, local farmers\, and pollinators in growing nutritious foods. With a farmer’s market\, garden play\, nutrition education\, and engaging pollination activities\, this immersive exhibit helps families build connections between healthy eating\, local agriculture\, and everyday choices. Come learn\, play\, and grow with us!
URL:https://bitterrootchamber.com/event/small-but-mighty-growing-strong-from-farm-to-table-experience/2026-05-09/
LOCATION:Sapphire Early Learning Center\, 216 College St.\, Stevensville\, 59870
CATEGORIES:Community Events
ATTACH;FMTTYPE=image/jpeg:https://bitterrootchamber.com/wp-content/uploads/2026/04/Farm-to-Table-Experience-flyer.jpg
ORGANIZER;CN="Bitterroot Discovery Children's Museum":MAILTO:anita@bitterrootdiscovery.org
END:VEVENT
BEGIN:VEVENT
DTSTART;TZID=America/Denver:20260509T110000
DTEND;TZID=America/Denver:20260509T140000
DTSTAMP:20260419T093300
CREATED:20260410T221021Z
LAST-MODIFIED:20260410T221021Z
UID:10009601-1778324400-1778335200@bitterrootchamber.com
SUMMARY:Florence Hardware Mother's Day Pancake Palooza!
DESCRIPTION:Part of the “Hometown Days Celebrations.” Join us for a Mother’s Day brunch for a good cause! We’re hosting Bitterroot Discovery Children’s Museum who will be flipping flapjacks and providing make and take Mother’s Day crafts by donation. We’ll also have $5 hydrangea plants while supplies last. It’s a flippin’ fun way to celebrate mom!
URL:https://bitterrootchamber.com/event/florence-hardware-mothers-day-pancake-palooza/
LOCATION:Florence Ace Hardware\, 5524 Old Hwy 93\, Florence\, 59833
CATEGORIES:Community Events
ATTACH;FMTTYPE=image/jpeg:https://bitterrootchamber.com/wp-content/uploads/2026/04/Mothers-Day-Facebook.jpg
ORGANIZER;CN="Bitterroot Discovery Children's Museum":MAILTO:anita@bitterrootdiscovery.org
END:VEVENT
BEGIN:VEVENT
DTSTART;TZID=America/Denver:20260509T120000
DTEND;TZID=America/Denver:20260509T160000
DTSTAMP:20260419T093300
CREATED:20260202T220633Z
LAST-MODIFIED:20260202T220633Z
UID:10008222-1778328000-1778342400@bitterrootchamber.com
SUMMARY:Atlatl Lesson\, Throw and ISAC
DESCRIPTION:Curious about ancient hunting techniques? \n  \nJoin us around a warming fire to learn about the history and mechanics of atlatl. After a safety briefing we will give a short lesson on how to use the atlatl followed by some one-on-one coaching/practice on our range. Throwers of all ages and skill levels are welcome. Parking is limited so please consider carpooling. \n  \nAt 1PM we will transition to competitive throwing. Crafted Wild maintains a property leaderboard with awards given out for the top three throwers in each category. \nThrowers are encouraged to register with the World Atlatl Association to have their scores considered for the world leaderboard. \n  \nRegistration is required for planning purposes and to help the day run smoothly. Registration closes at 5PM the day before the tournament.
URL:https://bitterrootchamber.com/event/atlatl-lesson-throw-and-isac/2026-05-09/
LOCATION:Crafted Wild\, LLC\, 1427 Burr Ridge Rd\, Victor\, 59875
CATEGORIES:Community Events
ATTACH;FMTTYPE=image/jpeg:https://bitterrootchamber.com/wp-content/uploads/2026/02/IMG_3657-scaled.jpg
ORGANIZER;CN="Crafted Wild%2C LLC":MAILTO:hello@craftedwildmt.com
END:VEVENT
END:VCALENDAR