BEGIN:VCALENDAR
VERSION:2.0
PRODID:-//Bitterroot Valley Chamber of Commerce - ECPv6.15.15//NONSGML v1.0//EN
CALSCALE:GREGORIAN
METHOD:PUBLISH
X-WR-CALNAME:Bitterroot Valley Chamber of Commerce
X-ORIGINAL-URL:https://bitterrootchamber.com
X-WR-CALDESC:Events for Bitterroot Valley Chamber of Commerce
REFRESH-INTERVAL;VALUE=DURATION:PT1H
X-Robots-Tag:noindex
X-PUBLISHED-TTL:PT1H
BEGIN:VTIMEZONE
TZID:America/Denver
BEGIN:DAYLIGHT
TZOFFSETFROM:-0700
TZOFFSETTO:-0600
TZNAME:MDT
DTSTART:20250309T090000
END:DAYLIGHT
BEGIN:STANDARD
TZOFFSETFROM:-0600
TZOFFSETTO:-0700
TZNAME:MST
DTSTART:20251102T080000
END:STANDARD
BEGIN:DAYLIGHT
TZOFFSETFROM:-0700
TZOFFSETTO:-0600
TZNAME:MDT
DTSTART:20260308T090000
END:DAYLIGHT
BEGIN:STANDARD
TZOFFSETFROM:-0600
TZOFFSETTO:-0700
TZNAME:MST
DTSTART:20261101T080000
END:STANDARD
BEGIN:DAYLIGHT
TZOFFSETFROM:-0700
TZOFFSETTO:-0600
TZNAME:MDT
DTSTART:20270314T090000
END:DAYLIGHT
BEGIN:STANDARD
TZOFFSETFROM:-0600
TZOFFSETTO:-0700
TZNAME:MST
DTSTART:20271107T080000
END:STANDARD
END:VTIMEZONE
BEGIN:VEVENT
DTSTART;VALUE=DATE:20260313
DTEND;VALUE=DATE:20260617
DTSTAMP:20260419T091105
CREATED:20260227T225256Z
LAST-MODIFIED:20260227T225256Z
UID:10009501-1773360000-1781654399@bitterrootchamber.com
SUMMARY:Gull Boats and RV Boat Show
DESCRIPTION:Boat Show
URL:https://bitterrootchamber.com/event/gull-boats-and-rv-boat-show/
LOCATION:Ravalli County Fairgrounds\, 100 Old Corvallis Rd\, Hamilton\, 59840\, United States
CATEGORIES:Community Events
END:VEVENT
BEGIN:VEVENT
DTSTART;TZID=America/Denver:20260515T100000
DTEND;TZID=America/Denver:20260524T180000
DTSTAMP:20260419T091105
CREATED:20260408T180716Z
LAST-MODIFIED:20260415T150921Z
UID:10009581-1778839200-1779645600@bitterrootchamber.com
SUMMARY:Gull Boats & RV Full Throttle Super Sale
DESCRIPTION:Join Gull Boats & RV at the Ravalli County Fairgrounds for the Full Throttle Super Sale on May 15-24 & June 5-14! \nThis is your chance to turn up the excitement on your next adventure! Shop our HUGE selection of RVs\, boats\, and jetskis\, built for taking your outdoor adventures to the next level.
URL:https://bitterrootchamber.com/event/gull-boats-rv-full-throttle-super-sale/2026-05-15/
LOCATION:Ravalli County Fairgrounds\, 100 Old Corvallis Rd\, Hamilton\, 59840\, United States
CATEGORIES:Community Events
ATTACH;FMTTYPE=image/jpeg:https://bitterrootchamber.com/wp-content/uploads/2026/04/Square-Image-1.jpg
END:VEVENT
BEGIN:VEVENT
DTSTART;TZID=America/Denver:20260522T090000
DTEND;TZID=America/Denver:20260524T170000
DTSTAMP:20260419T091105
CREATED:20260227T222817Z
LAST-MODIFIED:20260227T222817Z
UID:10009503-1779440400-1779642000@bitterrootchamber.com
SUMMARY:Mountain Hot Tubs Expo
DESCRIPTION:Spa\, Sauna\, and Hot Tub Expo. We do Everything Sauna: Custom\, Infrared\, Traditional\, Combination\, Built-in\, Freestanding\, Indoor\, and Outdoor units
URL:https://bitterrootchamber.com/event/mountain-hot-tubs-expo/
LOCATION:Ravalli County Fairgrounds\, 100 Old Corvallis Rd\, Hamilton\, 59840\, United States
CATEGORIES:Community Events
ATTACH;FMTTYPE=image/jpeg:https://bitterrootchamber.com/wp-content/uploads/2026/02/Document-5.jpg
END:VEVENT
BEGIN:VEVENT
DTSTART;TZID=America/Denver:20260524T100000
DTEND;TZID=America/Denver:20260524T170000
DTSTAMP:20260419T091105
CREATED:20260410T221114Z
LAST-MODIFIED:20260410T221114Z
UID:10009616-1779616800-1779642000@bitterrootchamber.com
SUMMARY:Small but Mighty: Growing Strong from Farm to Table experience
DESCRIPTION:Bitterroot Discovery Children’s Museum is pleased to announce our next month-long experience! Our wonderful friends at Sapphire Early Learning Center in Stevensville have generously allowed us to use a portion of their facility for the month of May to bring you “Small but Mighty: Growing Strong from Farm to Table.” \n\n\nStep into a world where food\, farms\, and buzzing pollinators come to life! Our new experience is a hands-on\, family-friendly chance for kids and caregivers to explore how food makes its way from soil to supper\, and how it helps our bodies grow strong. Through interactive play\, children will discover the important roles of gardens\, local farmers\, and pollinators in growing nutritious foods. With a farmer’s market\, garden play\, nutrition education\, and engaging pollination activities\, this immersive exhibit helps families build connections between healthy eating\, local agriculture\, and everyday choices. Come learn\, play\, and grow with us!
URL:https://bitterrootchamber.com/event/small-but-mighty-growing-strong-from-farm-to-table-experience/2026-05-24/
LOCATION:Sapphire Early Learning Center\, 216 College St.\, Stevensville\, 59870
CATEGORIES:Community Events
ATTACH;FMTTYPE=image/jpeg:https://bitterrootchamber.com/wp-content/uploads/2026/04/Farm-to-Table-Experience-flyer.jpg
ORGANIZER;CN="Bitterroot Discovery Children's Museum":MAILTO:anita@bitterrootdiscovery.org
END:VEVENT
END:VCALENDAR