BEGIN:VCALENDAR
VERSION:2.0
PRODID:-//Bitterroot Valley Chamber of Commerce - ECPv6.15.20//NONSGML v1.0//EN
CALSCALE:GREGORIAN
METHOD:PUBLISH
X-ORIGINAL-URL:https://bitterrootchamber.com
X-WR-CALDESC:Events for Bitterroot Valley Chamber of Commerce
REFRESH-INTERVAL;VALUE=DURATION:PT1H
X-Robots-Tag:noindex
X-PUBLISHED-TTL:PT1H
BEGIN:VTIMEZONE
TZID:America/Denver
BEGIN:DAYLIGHT
TZOFFSETFROM:-0700
TZOFFSETTO:-0600
TZNAME:MDT
DTSTART:20260308T090000
END:DAYLIGHT
BEGIN:STANDARD
TZOFFSETFROM:-0600
TZOFFSETTO:-0700
TZNAME:MST
DTSTART:20261101T080000
END:STANDARD
BEGIN:DAYLIGHT
TZOFFSETFROM:-0700
TZOFFSETTO:-0600
TZNAME:MDT
DTSTART:20270314T090000
END:DAYLIGHT
BEGIN:STANDARD
TZOFFSETFROM:-0600
TZOFFSETTO:-0700
TZNAME:MST
DTSTART:20271107T080000
END:STANDARD
BEGIN:DAYLIGHT
TZOFFSETFROM:-0700
TZOFFSETTO:-0600
TZNAME:MDT
DTSTART:20280312T090000
END:DAYLIGHT
BEGIN:STANDARD
TZOFFSETFROM:-0600
TZOFFSETTO:-0700
TZNAME:MST
DTSTART:20281105T080000
END:STANDARD
BEGIN:DAYLIGHT
TZOFFSETFROM:-0700
TZOFFSETTO:-0600
TZNAME:MDT
DTSTART:20290311T090000
END:DAYLIGHT
BEGIN:STANDARD
TZOFFSETFROM:-0600
TZOFFSETTO:-0700
TZNAME:MST
DTSTART:20291104T080000
END:STANDARD
END:VTIMEZONE
BEGIN:VEVENT
DTSTART;TZID=America/Denver:20271111T160000
DTEND;TZID=America/Denver:20271111T180000
DTSTAMP:20260424T125609
CREATED:20260107T235343Z
LAST-MODIFIED:20260107T235343Z
UID:10007079-1825948800-1825956000@bitterrootchamber.com
SUMMARY:Business After Hours
DESCRIPTION:Monthly Business After Hours every second Thursday of the month.
URL:https://bitterrootchamber.com/event/business-after-hours/2027-11-11/
CATEGORIES:Chamber Events
END:VEVENT
BEGIN:VEVENT
DTSTART;TZID=America/Denver:20271116T090000
DTEND;TZID=America/Denver:20271116T093000
DTSTAMP:20260424T125609
CREATED:20251112T190033Z
LAST-MODIFIED:20251112T190033Z
UID:10005688-1826355600-1826357400@bitterrootchamber.com
SUMMARY:AROUND THE ROOT with Dawn & Dominic
DESCRIPTION:Join Sapphire Lutheran Home’s Dominic Farrenkopf and Dawn Luedecke from the Bitterroot Valley Chamber of Commerce as they chat about local events\, community stories\, and the people who make the Bitterroot Valley shine. From festivals to fundraisers\, if it’s happening in the valley\, it’s happening Around the Root. \nJoin them LIVE on Facebook\, Youtube\, and Instagram. \nWatch them later on: Facebook\, Youtube\, Instagram\, Spotify\, \nhttps://www.facebook.com/profile.php?id=100069024465942  \nhttps://www.youtube.com/@BitterrootValleyChamber  \nhttps://www.instagram.com/bitterrootvalleychamber/ \nhttps://open.spotify.com/show/2pMkXG1hvq1hV7SXcrI0mh \n \n 
URL:https://bitterrootchamber.com/event/around-the-root-with-dawn-dominic/2027-11-16/
LOCATION:Social Media
CATEGORIES:Chamber Events,Community Events
ATTACH;FMTTYPE=image/png:https://bitterrootchamber.com/wp-content/uploads/2025/11/Untitled-1-8.png
END:VEVENT
BEGIN:VEVENT
DTSTART;TZID=America/Denver:20271116T160000
DTEND;TZID=America/Denver:20271116T170000
DTSTAMP:20260424T125609
CREATED:20250808T180829Z
LAST-MODIFIED:20250808T180829Z
UID:10005268-1826380800-1826384400@bitterrootchamber.com
SUMMARY:Chamber Board Meeting
DESCRIPTION:The Chamber Board meets at 4pm on the third Tuesday of every month.
URL:https://bitterrootchamber.com/event/chamber-board-meeting/2027-11-16/
CATEGORIES:Chamber Events
END:VEVENT
BEGIN:VEVENT
DTSTART;TZID=America/Denver:20271117T083000
DTEND;TZID=America/Denver:20271117T170000
DTSTAMP:20260424T125609
CREATED:20250808T182843Z
LAST-MODIFIED:20250917T182838Z
UID:10005328-1826440200-1826470800@bitterrootchamber.com
SUMMARY:Monthly Leadership Class
DESCRIPTION:Monthly Leadership Class.
URL:https://bitterrootchamber.com/event/monthly-leadership-class/2027-11-17/
CATEGORIES:Chamber Events
END:VEVENT
BEGIN:VEVENT
DTSTART;TZID=America/Denver:20271123T090000
DTEND;TZID=America/Denver:20271123T093000
DTSTAMP:20260424T125609
CREATED:20251112T190033Z
LAST-MODIFIED:20251112T190033Z
UID:10005689-1826960400-1826962200@bitterrootchamber.com
SUMMARY:AROUND THE ROOT with Dawn & Dominic
DESCRIPTION:Join Sapphire Lutheran Home’s Dominic Farrenkopf and Dawn Luedecke from the Bitterroot Valley Chamber of Commerce as they chat about local events\, community stories\, and the people who make the Bitterroot Valley shine. From festivals to fundraisers\, if it’s happening in the valley\, it’s happening Around the Root. \nJoin them LIVE on Facebook\, Youtube\, and Instagram. \nWatch them later on: Facebook\, Youtube\, Instagram\, Spotify\, \nhttps://www.facebook.com/profile.php?id=100069024465942  \nhttps://www.youtube.com/@BitterrootValleyChamber  \nhttps://www.instagram.com/bitterrootvalleychamber/ \nhttps://open.spotify.com/show/2pMkXG1hvq1hV7SXcrI0mh \n \n 
URL:https://bitterrootchamber.com/event/around-the-root-with-dawn-dominic/2027-11-23/
LOCATION:Social Media
CATEGORIES:Chamber Events,Community Events
ATTACH;FMTTYPE=image/png:https://bitterrootchamber.com/wp-content/uploads/2025/11/Untitled-1-8.png
END:VEVENT
BEGIN:VEVENT
DTSTART;TZID=America/Denver:20271124T080000
DTEND;TZID=America/Denver:20271124T170000
DTSTAMP:20260424T125609
CREATED:20260107T233858Z
LAST-MODIFIED:20260107T233933Z
UID:10006901-1827043200-1827075600@bitterrootchamber.com
SUMMARY:South Valley Connections
DESCRIPTION:Every last Wednesday of each month from 5-6pm. Enjoy a low key networking evening in the South Bitterroot Valley\, hosted by various business. Open to everyone and do not need to be a Chamber member to attend or host. \n 
URL:https://bitterrootchamber.com/event/south-valley-connections/2027-11-24/
CATEGORIES:Chamber Events,Community Events
ATTACH;FMTTYPE=image/png:https://bitterrootchamber.com/wp-content/uploads/2026/01/Black-White-Minimalist-Simple-Monogram-Typography-Logo-3.png
END:VEVENT
BEGIN:VEVENT
DTSTART;TZID=America/Denver:20271125T120000
DTEND;TZID=America/Denver:20271125T133000
DTSTAMP:20260424T125609
CREATED:20260107T235545Z
LAST-MODIFIED:20260107T235546Z
UID:10007138-1827144000-1827149400@bitterrootchamber.com
SUMMARY:Chamber Member Luncheon
DESCRIPTION:Monthly luncheon for Chamber Members.
URL:https://bitterrootchamber.com/event/chamber-member-luncheon-2/2027-11-25/
CATEGORIES:Chamber Events
END:VEVENT
BEGIN:VEVENT
DTSTART;TZID=America/Denver:20271130T090000
DTEND;TZID=America/Denver:20271130T093000
DTSTAMP:20260424T125609
CREATED:20251112T190033Z
LAST-MODIFIED:20251112T190033Z
UID:10005690-1827565200-1827567000@bitterrootchamber.com
SUMMARY:AROUND THE ROOT with Dawn & Dominic
DESCRIPTION:Join Sapphire Lutheran Home’s Dominic Farrenkopf and Dawn Luedecke from the Bitterroot Valley Chamber of Commerce as they chat about local events\, community stories\, and the people who make the Bitterroot Valley shine. From festivals to fundraisers\, if it’s happening in the valley\, it’s happening Around the Root. \nJoin them LIVE on Facebook\, Youtube\, and Instagram. \nWatch them later on: Facebook\, Youtube\, Instagram\, Spotify\, \nhttps://www.facebook.com/profile.php?id=100069024465942  \nhttps://www.youtube.com/@BitterrootValleyChamber  \nhttps://www.instagram.com/bitterrootvalleychamber/ \nhttps://open.spotify.com/show/2pMkXG1hvq1hV7SXcrI0mh \n \n 
URL:https://bitterrootchamber.com/event/around-the-root-with-dawn-dominic/2027-11-30/
LOCATION:Social Media
CATEGORIES:Chamber Events,Community Events
ATTACH;FMTTYPE=image/png:https://bitterrootchamber.com/wp-content/uploads/2025/11/Untitled-1-8.png
END:VEVENT
BEGIN:VEVENT
DTSTART;TZID=America/Denver:20271130T160000
DTEND;TZID=America/Denver:20271130T170000
DTSTAMP:20260424T125609
CREATED:20250923T194850Z
LAST-MODIFIED:20250923T194850Z
UID:10005449-1827590400-1827594000@bitterrootchamber.com
SUMMARY:Chamber Agriculture & Local Foods Committee
DESCRIPTION:Strengthening Bitterroot Valley farmers\, ranchers and producers through collaboration\, advocacy\, and promotion to support our economy\, preserve open spaces\, and honor our agricultural heritage for present and future generations.
URL:https://bitterrootchamber.com/event/chamber-agriculture-local-foods-committee/2027-11-30/
CATEGORIES:Agriculture Events,Chamber Events
ATTACH;FMTTYPE=image/jpeg:https://bitterrootchamber.com/wp-content/uploads/2025/09/ALFC-Logo.jpg
END:VEVENT
BEGIN:VEVENT
DTSTART;TZID=America/Denver:20271201T120000
DTEND;TZID=America/Denver:20271201T130000
DTSTAMP:20260424T125609
CREATED:20250808T180541Z
LAST-MODIFIED:20250808T180541Z
UID:10005208-1827662400-1827666000@bitterrootchamber.com
SUMMARY:Chamber Ambassador Meeting
DESCRIPTION:Chamber Ambassadors Meet at Bitterroot Chiropractic at noon on the first Wednesday of every month.
URL:https://bitterrootchamber.com/event/chamber-ambassador-meeting/2027-12-01/
LOCATION:Bitterroot Chiropractic
CATEGORIES:Chamber Events
END:VEVENT
BEGIN:VEVENT
DTSTART;TZID=America/Denver:20271207T090000
DTEND;TZID=America/Denver:20271207T093000
DTSTAMP:20260424T125609
CREATED:20251112T190033Z
LAST-MODIFIED:20251112T190033Z
UID:10005691-1828170000-1828171800@bitterrootchamber.com
SUMMARY:AROUND THE ROOT with Dawn & Dominic
DESCRIPTION:Join Sapphire Lutheran Home’s Dominic Farrenkopf and Dawn Luedecke from the Bitterroot Valley Chamber of Commerce as they chat about local events\, community stories\, and the people who make the Bitterroot Valley shine. From festivals to fundraisers\, if it’s happening in the valley\, it’s happening Around the Root. \nJoin them LIVE on Facebook\, Youtube\, and Instagram. \nWatch them later on: Facebook\, Youtube\, Instagram\, Spotify\, \nhttps://www.facebook.com/profile.php?id=100069024465942  \nhttps://www.youtube.com/@BitterrootValleyChamber  \nhttps://www.instagram.com/bitterrootvalleychamber/ \nhttps://open.spotify.com/show/2pMkXG1hvq1hV7SXcrI0mh \n \n 
URL:https://bitterrootchamber.com/event/around-the-root-with-dawn-dominic/2027-12-07/
LOCATION:Social Media
CATEGORIES:Chamber Events,Community Events
ATTACH;FMTTYPE=image/png:https://bitterrootchamber.com/wp-content/uploads/2025/11/Untitled-1-8.png
END:VEVENT
BEGIN:VEVENT
DTSTART;TZID=America/Denver:20271208T170000
DTEND;TZID=America/Denver:20271208T180000
DTSTAMP:20260424T125609
CREATED:20260107T230808Z
LAST-MODIFIED:20260107T234629Z
UID:10007022-1828285200-1828288800@bitterrootchamber.com
SUMMARY:North Valley Connections
DESCRIPTION:Monthly networking meet up in the North Bitterroot Valley. This event happens every second Wednesday of the month from 5-6pm at various locations.
URL:https://bitterrootchamber.com/event/north-valley-connections/2027-12-08/
CATEGORIES:Chamber Events,Community Events
ATTACH;FMTTYPE=image/png:https://bitterrootchamber.com/wp-content/uploads/2026/01/NVCon.png
END:VEVENT
BEGIN:VEVENT
DTSTART;TZID=America/Denver:20271209T160000
DTEND;TZID=America/Denver:20271209T180000
DTSTAMP:20260424T125609
CREATED:20260107T235343Z
LAST-MODIFIED:20260107T235343Z
UID:10007080-1828368000-1828375200@bitterrootchamber.com
SUMMARY:Business After Hours
DESCRIPTION:Monthly Business After Hours every second Thursday of the month.
URL:https://bitterrootchamber.com/event/business-after-hours/2027-12-09/
CATEGORIES:Chamber Events
END:VEVENT
BEGIN:VEVENT
DTSTART;TZID=America/Denver:20271214T090000
DTEND;TZID=America/Denver:20271214T093000
DTSTAMP:20260424T125609
CREATED:20251112T190033Z
LAST-MODIFIED:20251112T190033Z
UID:10005692-1828774800-1828776600@bitterrootchamber.com
SUMMARY:AROUND THE ROOT with Dawn & Dominic
DESCRIPTION:Join Sapphire Lutheran Home’s Dominic Farrenkopf and Dawn Luedecke from the Bitterroot Valley Chamber of Commerce as they chat about local events\, community stories\, and the people who make the Bitterroot Valley shine. From festivals to fundraisers\, if it’s happening in the valley\, it’s happening Around the Root. \nJoin them LIVE on Facebook\, Youtube\, and Instagram. \nWatch them later on: Facebook\, Youtube\, Instagram\, Spotify\, \nhttps://www.facebook.com/profile.php?id=100069024465942  \nhttps://www.youtube.com/@BitterrootValleyChamber  \nhttps://www.instagram.com/bitterrootvalleychamber/ \nhttps://open.spotify.com/show/2pMkXG1hvq1hV7SXcrI0mh \n \n 
URL:https://bitterrootchamber.com/event/around-the-root-with-dawn-dominic/2027-12-14/
LOCATION:Social Media
CATEGORIES:Chamber Events,Community Events
ATTACH;FMTTYPE=image/png:https://bitterrootchamber.com/wp-content/uploads/2025/11/Untitled-1-8.png
END:VEVENT
BEGIN:VEVENT
DTSTART;TZID=America/Denver:20271215T083000
DTEND;TZID=America/Denver:20271215T170000
DTSTAMP:20260424T125609
CREATED:20250808T182843Z
LAST-MODIFIED:20250917T182838Z
UID:10005329-1828859400-1828890000@bitterrootchamber.com
SUMMARY:Monthly Leadership Class
DESCRIPTION:Monthly Leadership Class.
URL:https://bitterrootchamber.com/event/monthly-leadership-class/2027-12-15/
CATEGORIES:Chamber Events
END:VEVENT
BEGIN:VEVENT
DTSTART;TZID=America/Denver:20271221T090000
DTEND;TZID=America/Denver:20271221T093000
DTSTAMP:20260424T125609
CREATED:20251112T190033Z
LAST-MODIFIED:20251112T190033Z
UID:10005693-1829379600-1829381400@bitterrootchamber.com
SUMMARY:AROUND THE ROOT with Dawn & Dominic
DESCRIPTION:Join Sapphire Lutheran Home’s Dominic Farrenkopf and Dawn Luedecke from the Bitterroot Valley Chamber of Commerce as they chat about local events\, community stories\, and the people who make the Bitterroot Valley shine. From festivals to fundraisers\, if it’s happening in the valley\, it’s happening Around the Root. \nJoin them LIVE on Facebook\, Youtube\, and Instagram. \nWatch them later on: Facebook\, Youtube\, Instagram\, Spotify\, \nhttps://www.facebook.com/profile.php?id=100069024465942  \nhttps://www.youtube.com/@BitterrootValleyChamber  \nhttps://www.instagram.com/bitterrootvalleychamber/ \nhttps://open.spotify.com/show/2pMkXG1hvq1hV7SXcrI0mh \n \n 
URL:https://bitterrootchamber.com/event/around-the-root-with-dawn-dominic/2027-12-21/
LOCATION:Social Media
CATEGORIES:Chamber Events,Community Events
ATTACH;FMTTYPE=image/png:https://bitterrootchamber.com/wp-content/uploads/2025/11/Untitled-1-8.png
END:VEVENT
BEGIN:VEVENT
DTSTART;TZID=America/Denver:20271221T160000
DTEND;TZID=America/Denver:20271221T170000
DTSTAMP:20260424T125609
CREATED:20250808T180829Z
LAST-MODIFIED:20250808T180829Z
UID:10005269-1829404800-1829408400@bitterrootchamber.com
SUMMARY:Chamber Board Meeting
DESCRIPTION:The Chamber Board meets at 4pm on the third Tuesday of every month.
URL:https://bitterrootchamber.com/event/chamber-board-meeting/2027-12-21/
CATEGORIES:Chamber Events
END:VEVENT
BEGIN:VEVENT
DTSTART;TZID=America/Denver:20271222T080000
DTEND;TZID=America/Denver:20271222T170000
DTSTAMP:20260424T125609
CREATED:20260107T233858Z
LAST-MODIFIED:20260107T233933Z
UID:10006902-1829462400-1829494800@bitterrootchamber.com
SUMMARY:South Valley Connections
DESCRIPTION:Every last Wednesday of each month from 5-6pm. Enjoy a low key networking evening in the South Bitterroot Valley\, hosted by various business. Open to everyone and do not need to be a Chamber member to attend or host. \n 
URL:https://bitterrootchamber.com/event/south-valley-connections/2027-12-22/
CATEGORIES:Chamber Events,Community Events
ATTACH;FMTTYPE=image/png:https://bitterrootchamber.com/wp-content/uploads/2026/01/Black-White-Minimalist-Simple-Monogram-Typography-Logo-3.png
END:VEVENT
BEGIN:VEVENT
DTSTART;TZID=America/Denver:20271223T120000
DTEND;TZID=America/Denver:20271223T133000
DTSTAMP:20260424T125609
CREATED:20260107T235545Z
LAST-MODIFIED:20260107T235546Z
UID:10007139-1829563200-1829568600@bitterrootchamber.com
SUMMARY:Chamber Member Luncheon
DESCRIPTION:Monthly luncheon for Chamber Members.
URL:https://bitterrootchamber.com/event/chamber-member-luncheon-2/2027-12-23/
CATEGORIES:Chamber Events
END:VEVENT
BEGIN:VEVENT
DTSTART;TZID=America/Denver:20271228T090000
DTEND;TZID=America/Denver:20271228T093000
DTSTAMP:20260424T125609
CREATED:20251112T190033Z
LAST-MODIFIED:20251112T190033Z
UID:10005694-1829984400-1829986200@bitterrootchamber.com
SUMMARY:AROUND THE ROOT with Dawn & Dominic
DESCRIPTION:Join Sapphire Lutheran Home’s Dominic Farrenkopf and Dawn Luedecke from the Bitterroot Valley Chamber of Commerce as they chat about local events\, community stories\, and the people who make the Bitterroot Valley shine. From festivals to fundraisers\, if it’s happening in the valley\, it’s happening Around the Root. \nJoin them LIVE on Facebook\, Youtube\, and Instagram. \nWatch them later on: Facebook\, Youtube\, Instagram\, Spotify\, \nhttps://www.facebook.com/profile.php?id=100069024465942  \nhttps://www.youtube.com/@BitterrootValleyChamber  \nhttps://www.instagram.com/bitterrootvalleychamber/ \nhttps://open.spotify.com/show/2pMkXG1hvq1hV7SXcrI0mh \n \n 
URL:https://bitterrootchamber.com/event/around-the-root-with-dawn-dominic/2027-12-28/
LOCATION:Social Media
CATEGORIES:Chamber Events,Community Events
ATTACH;FMTTYPE=image/png:https://bitterrootchamber.com/wp-content/uploads/2025/11/Untitled-1-8.png
END:VEVENT
BEGIN:VEVENT
DTSTART;TZID=America/Denver:20271228T160000
DTEND;TZID=America/Denver:20271228T170000
DTSTAMP:20260424T125609
CREATED:20250923T194850Z
LAST-MODIFIED:20250923T194850Z
UID:10005450-1830009600-1830013200@bitterrootchamber.com
SUMMARY:Chamber Agriculture & Local Foods Committee
DESCRIPTION:Strengthening Bitterroot Valley farmers\, ranchers and producers through collaboration\, advocacy\, and promotion to support our economy\, preserve open spaces\, and honor our agricultural heritage for present and future generations.
URL:https://bitterrootchamber.com/event/chamber-agriculture-local-foods-committee/2027-12-28/
CATEGORIES:Agriculture Events,Chamber Events
ATTACH;FMTTYPE=image/jpeg:https://bitterrootchamber.com/wp-content/uploads/2025/09/ALFC-Logo.jpg
END:VEVENT
BEGIN:VEVENT
DTSTART;TZID=America/Denver:20280104T090000
DTEND;TZID=America/Denver:20280104T093000
DTSTAMP:20260424T125609
CREATED:20251112T190033Z
LAST-MODIFIED:20251112T190033Z
UID:10005695-1830589200-1830591000@bitterrootchamber.com
SUMMARY:AROUND THE ROOT with Dawn & Dominic
DESCRIPTION:Join Sapphire Lutheran Home’s Dominic Farrenkopf and Dawn Luedecke from the Bitterroot Valley Chamber of Commerce as they chat about local events\, community stories\, and the people who make the Bitterroot Valley shine. From festivals to fundraisers\, if it’s happening in the valley\, it’s happening Around the Root. \nJoin them LIVE on Facebook\, Youtube\, and Instagram. \nWatch them later on: Facebook\, Youtube\, Instagram\, Spotify\, \nhttps://www.facebook.com/profile.php?id=100069024465942  \nhttps://www.youtube.com/@BitterrootValleyChamber  \nhttps://www.instagram.com/bitterrootvalleychamber/ \nhttps://open.spotify.com/show/2pMkXG1hvq1hV7SXcrI0mh \n \n 
URL:https://bitterrootchamber.com/event/around-the-root-with-dawn-dominic/2028-01-04/
LOCATION:Social Media
CATEGORIES:Chamber Events,Community Events
ATTACH;FMTTYPE=image/png:https://bitterrootchamber.com/wp-content/uploads/2025/11/Untitled-1-8.png
END:VEVENT
BEGIN:VEVENT
DTSTART;TZID=America/Denver:20280105T120000
DTEND;TZID=America/Denver:20280105T130000
DTSTAMP:20260424T125609
CREATED:20250808T180541Z
LAST-MODIFIED:20250808T180541Z
UID:10005209-1830686400-1830690000@bitterrootchamber.com
SUMMARY:Chamber Ambassador Meeting
DESCRIPTION:Chamber Ambassadors Meet at Bitterroot Chiropractic at noon on the first Wednesday of every month.
URL:https://bitterrootchamber.com/event/chamber-ambassador-meeting/2028-01-05/
LOCATION:Bitterroot Chiropractic
CATEGORIES:Chamber Events
END:VEVENT
BEGIN:VEVENT
DTSTART;TZID=America/Denver:20280111T090000
DTEND;TZID=America/Denver:20280111T093000
DTSTAMP:20260424T125609
CREATED:20251112T190033Z
LAST-MODIFIED:20251112T190033Z
UID:10005696-1831194000-1831195800@bitterrootchamber.com
SUMMARY:AROUND THE ROOT with Dawn & Dominic
DESCRIPTION:Join Sapphire Lutheran Home’s Dominic Farrenkopf and Dawn Luedecke from the Bitterroot Valley Chamber of Commerce as they chat about local events\, community stories\, and the people who make the Bitterroot Valley shine. From festivals to fundraisers\, if it’s happening in the valley\, it’s happening Around the Root. \nJoin them LIVE on Facebook\, Youtube\, and Instagram. \nWatch them later on: Facebook\, Youtube\, Instagram\, Spotify\, \nhttps://www.facebook.com/profile.php?id=100069024465942  \nhttps://www.youtube.com/@BitterrootValleyChamber  \nhttps://www.instagram.com/bitterrootvalleychamber/ \nhttps://open.spotify.com/show/2pMkXG1hvq1hV7SXcrI0mh \n \n 
URL:https://bitterrootchamber.com/event/around-the-root-with-dawn-dominic/2028-01-11/
LOCATION:Social Media
CATEGORIES:Chamber Events,Community Events
ATTACH;FMTTYPE=image/png:https://bitterrootchamber.com/wp-content/uploads/2025/11/Untitled-1-8.png
END:VEVENT
BEGIN:VEVENT
DTSTART;TZID=America/Denver:20280112T170000
DTEND;TZID=America/Denver:20280112T180000
DTSTAMP:20260424T125609
CREATED:20260107T230808Z
LAST-MODIFIED:20260107T234629Z
UID:10007023-1831309200-1831312800@bitterrootchamber.com
SUMMARY:North Valley Connections
DESCRIPTION:Monthly networking meet up in the North Bitterroot Valley. This event happens every second Wednesday of the month from 5-6pm at various locations.
URL:https://bitterrootchamber.com/event/north-valley-connections/2028-01-12/
CATEGORIES:Chamber Events,Community Events
ATTACH;FMTTYPE=image/png:https://bitterrootchamber.com/wp-content/uploads/2026/01/NVCon.png
END:VEVENT
BEGIN:VEVENT
DTSTART;TZID=America/Denver:20280113T160000
DTEND;TZID=America/Denver:20280113T180000
DTSTAMP:20260424T125609
CREATED:20260107T235343Z
LAST-MODIFIED:20260107T235343Z
UID:10007081-1831392000-1831399200@bitterrootchamber.com
SUMMARY:Business After Hours
DESCRIPTION:Monthly Business After Hours every second Thursday of the month.
URL:https://bitterrootchamber.com/event/business-after-hours/2028-01-13/
CATEGORIES:Chamber Events
END:VEVENT
BEGIN:VEVENT
DTSTART;TZID=America/Denver:20280118T090000
DTEND;TZID=America/Denver:20280118T093000
DTSTAMP:20260424T125609
CREATED:20251112T190033Z
LAST-MODIFIED:20251112T190033Z
UID:10005697-1831798800-1831800600@bitterrootchamber.com
SUMMARY:AROUND THE ROOT with Dawn & Dominic
DESCRIPTION:Join Sapphire Lutheran Home’s Dominic Farrenkopf and Dawn Luedecke from the Bitterroot Valley Chamber of Commerce as they chat about local events\, community stories\, and the people who make the Bitterroot Valley shine. From festivals to fundraisers\, if it’s happening in the valley\, it’s happening Around the Root. \nJoin them LIVE on Facebook\, Youtube\, and Instagram. \nWatch them later on: Facebook\, Youtube\, Instagram\, Spotify\, \nhttps://www.facebook.com/profile.php?id=100069024465942  \nhttps://www.youtube.com/@BitterrootValleyChamber  \nhttps://www.instagram.com/bitterrootvalleychamber/ \nhttps://open.spotify.com/show/2pMkXG1hvq1hV7SXcrI0mh \n \n 
URL:https://bitterrootchamber.com/event/around-the-root-with-dawn-dominic/2028-01-18/
LOCATION:Social Media
CATEGORIES:Chamber Events,Community Events
ATTACH;FMTTYPE=image/png:https://bitterrootchamber.com/wp-content/uploads/2025/11/Untitled-1-8.png
END:VEVENT
BEGIN:VEVENT
DTSTART;TZID=America/Denver:20280118T160000
DTEND;TZID=America/Denver:20280118T170000
DTSTAMP:20260424T125609
CREATED:20250808T180829Z
LAST-MODIFIED:20250808T180829Z
UID:10005270-1831824000-1831827600@bitterrootchamber.com
SUMMARY:Chamber Board Meeting
DESCRIPTION:The Chamber Board meets at 4pm on the third Tuesday of every month.
URL:https://bitterrootchamber.com/event/chamber-board-meeting/2028-01-18/
CATEGORIES:Chamber Events
END:VEVENT
BEGIN:VEVENT
DTSTART;TZID=America/Denver:20280119T083000
DTEND;TZID=America/Denver:20280119T170000
DTSTAMP:20260424T125609
CREATED:20250808T182843Z
LAST-MODIFIED:20250917T182838Z
UID:10005330-1831883400-1831914000@bitterrootchamber.com
SUMMARY:Monthly Leadership Class
DESCRIPTION:Monthly Leadership Class.
URL:https://bitterrootchamber.com/event/monthly-leadership-class/2028-01-19/
CATEGORIES:Chamber Events
END:VEVENT
BEGIN:VEVENT
DTSTART;TZID=America/Denver:20280125T090000
DTEND;TZID=America/Denver:20280125T093000
DTSTAMP:20260424T125609
CREATED:20251112T190033Z
LAST-MODIFIED:20251112T190033Z
UID:10005698-1832403600-1832405400@bitterrootchamber.com
SUMMARY:AROUND THE ROOT with Dawn & Dominic
DESCRIPTION:Join Sapphire Lutheran Home’s Dominic Farrenkopf and Dawn Luedecke from the Bitterroot Valley Chamber of Commerce as they chat about local events\, community stories\, and the people who make the Bitterroot Valley shine. From festivals to fundraisers\, if it’s happening in the valley\, it’s happening Around the Root. \nJoin them LIVE on Facebook\, Youtube\, and Instagram. \nWatch them later on: Facebook\, Youtube\, Instagram\, Spotify\, \nhttps://www.facebook.com/profile.php?id=100069024465942  \nhttps://www.youtube.com/@BitterrootValleyChamber  \nhttps://www.instagram.com/bitterrootvalleychamber/ \nhttps://open.spotify.com/show/2pMkXG1hvq1hV7SXcrI0mh \n \n 
URL:https://bitterrootchamber.com/event/around-the-root-with-dawn-dominic/2028-01-25/
LOCATION:Social Media
CATEGORIES:Chamber Events,Community Events
ATTACH;FMTTYPE=image/png:https://bitterrootchamber.com/wp-content/uploads/2025/11/Untitled-1-8.png
END:VEVENT
END:VCALENDAR