BEGIN:VCALENDAR
VERSION:2.0
PRODID:-//Bitterroot Valley Chamber of Commerce - ECPv6.15.15//NONSGML v1.0//EN
CALSCALE:GREGORIAN
METHOD:PUBLISH
X-WR-CALNAME:Bitterroot Valley Chamber of Commerce
X-ORIGINAL-URL:https://bitterrootchamber.com
X-WR-CALDESC:Events for Bitterroot Valley Chamber of Commerce
REFRESH-INTERVAL;VALUE=DURATION:PT1H
X-Robots-Tag:noindex
X-PUBLISHED-TTL:PT1H
BEGIN:VTIMEZONE
TZID:America/Denver
BEGIN:DAYLIGHT
TZOFFSETFROM:-0700
TZOFFSETTO:-0600
TZNAME:MDT
DTSTART:20250309T090000
END:DAYLIGHT
BEGIN:STANDARD
TZOFFSETFROM:-0600
TZOFFSETTO:-0700
TZNAME:MST
DTSTART:20251102T080000
END:STANDARD
BEGIN:DAYLIGHT
TZOFFSETFROM:-0700
TZOFFSETTO:-0600
TZNAME:MDT
DTSTART:20260308T090000
END:DAYLIGHT
BEGIN:STANDARD
TZOFFSETFROM:-0600
TZOFFSETTO:-0700
TZNAME:MST
DTSTART:20261101T080000
END:STANDARD
BEGIN:DAYLIGHT
TZOFFSETFROM:-0700
TZOFFSETTO:-0600
TZNAME:MDT
DTSTART:20270314T090000
END:DAYLIGHT
BEGIN:STANDARD
TZOFFSETFROM:-0600
TZOFFSETTO:-0700
TZNAME:MST
DTSTART:20271107T080000
END:STANDARD
BEGIN:DAYLIGHT
TZOFFSETFROM:-0700
TZOFFSETTO:-0600
TZNAME:MDT
DTSTART:20280312T090000
END:DAYLIGHT
BEGIN:STANDARD
TZOFFSETFROM:-0600
TZOFFSETTO:-0700
TZNAME:MST
DTSTART:20281105T080000
END:STANDARD
END:VTIMEZONE
BEGIN:VEVENT
DTSTART;TZID=America/Denver:20260506T173000
DTEND;TZID=America/Denver:20260506T190000
DTSTAMP:20260423T145528
CREATED:20260218T233249Z
LAST-MODIFIED:20260219T001940Z
UID:10009458-1778088600-1778094000@bitterrootchamber.com
SUMMARY:Writers Circle
DESCRIPTION:Writers share their prose in a supportive community. Prompts offered at bimonthly meeting 1st and 3rd Wednesday of the month. Feel free to share whatever writings you wish to bring.
URL:https://bitterrootchamber.com/event/writers-circle-3/2026-05-06/
LOCATION:Explore the Arts\, 701 Main St.\, Hamilton\, 59840
CATEGORIES:Community Events
ATTACH;FMTTYPE=image/jpeg:https://bitterrootchamber.com/wp-content/uploads/2025/08/IMG_0035.jpeg
ORGANIZER;CN="Explore the ARTS":MAILTO:barbaraliss101@gmail.com
END:VEVENT
BEGIN:VEVENT
DTSTART;TZID=America/Denver:20260520T173000
DTEND;TZID=America/Denver:20260520T190000
DTSTAMP:20260423T145528
CREATED:20260218T231521Z
LAST-MODIFIED:20260219T002438Z
UID:10009454-1779298200-1779303600@bitterrootchamber.com
SUMMARY:Writers Circle
DESCRIPTION:Writers share their prose in a supportive community. Prompts offered at bimonthly meeting 1st and 3rd Wednesday of the month. Feel free to share whatever writings you wish to bring.
URL:https://bitterrootchamber.com/event/writers-circle-2/2026-05-20/
CATEGORIES:Community Events
ATTACH;FMTTYPE=image/jpeg:https://bitterrootchamber.com/wp-content/uploads/2025/08/IMG_0035.jpeg
ORGANIZER;CN="Explore the ARTS":MAILTO:barbaraliss101@gmail.com
END:VEVENT
BEGIN:VEVENT
DTSTART;TZID=America/Denver:20260603T173000
DTEND;TZID=America/Denver:20260603T190000
DTSTAMP:20260423T145528
CREATED:20260218T233249Z
LAST-MODIFIED:20260219T001940Z
UID:10009459-1780507800-1780513200@bitterrootchamber.com
SUMMARY:Writers Circle
DESCRIPTION:Writers share their prose in a supportive community. Prompts offered at bimonthly meeting 1st and 3rd Wednesday of the month. Feel free to share whatever writings you wish to bring.
URL:https://bitterrootchamber.com/event/writers-circle-3/2026-06-03/
LOCATION:Explore the Arts\, 701 Main St.\, Hamilton\, 59840
CATEGORIES:Community Events
ATTACH;FMTTYPE=image/jpeg:https://bitterrootchamber.com/wp-content/uploads/2025/08/IMG_0035.jpeg
ORGANIZER;CN="Explore the ARTS":MAILTO:barbaraliss101@gmail.com
END:VEVENT
BEGIN:VEVENT
DTSTART;TZID=America/Denver:20260617T173000
DTEND;TZID=America/Denver:20260617T190000
DTSTAMP:20260423T145528
CREATED:20260218T231521Z
LAST-MODIFIED:20260219T002438Z
UID:10009455-1781717400-1781722800@bitterrootchamber.com
SUMMARY:Writers Circle
DESCRIPTION:Writers share their prose in a supportive community. Prompts offered at bimonthly meeting 1st and 3rd Wednesday of the month. Feel free to share whatever writings you wish to bring.
URL:https://bitterrootchamber.com/event/writers-circle-2/2026-06-17/
CATEGORIES:Community Events
ATTACH;FMTTYPE=image/jpeg:https://bitterrootchamber.com/wp-content/uploads/2025/08/IMG_0035.jpeg
ORGANIZER;CN="Explore the ARTS":MAILTO:barbaraliss101@gmail.com
END:VEVENT
BEGIN:VEVENT
DTSTART;TZID=America/Denver:20260701T173000
DTEND;TZID=America/Denver:20260701T190000
DTSTAMP:20260423T145528
CREATED:20260218T233249Z
LAST-MODIFIED:20260219T001940Z
UID:10009460-1782927000-1782932400@bitterrootchamber.com
SUMMARY:Writers Circle
DESCRIPTION:Writers share their prose in a supportive community. Prompts offered at bimonthly meeting 1st and 3rd Wednesday of the month. Feel free to share whatever writings you wish to bring.
URL:https://bitterrootchamber.com/event/writers-circle-3/2026-07-01/
LOCATION:Explore the Arts\, 701 Main St.\, Hamilton\, 59840
CATEGORIES:Community Events
ATTACH;FMTTYPE=image/jpeg:https://bitterrootchamber.com/wp-content/uploads/2025/08/IMG_0035.jpeg
ORGANIZER;CN="Explore the ARTS":MAILTO:barbaraliss101@gmail.com
END:VEVENT
BEGIN:VEVENT
DTSTART;TZID=America/Denver:20260805T173000
DTEND;TZID=America/Denver:20260805T190000
DTSTAMP:20260423T145528
CREATED:20260218T233249Z
LAST-MODIFIED:20260219T001940Z
UID:10009461-1785951000-1785956400@bitterrootchamber.com
SUMMARY:Writers Circle
DESCRIPTION:Writers share their prose in a supportive community. Prompts offered at bimonthly meeting 1st and 3rd Wednesday of the month. Feel free to share whatever writings you wish to bring.
URL:https://bitterrootchamber.com/event/writers-circle-3/2026-08-05/
LOCATION:Explore the Arts\, 701 Main St.\, Hamilton\, 59840
CATEGORIES:Community Events
ATTACH;FMTTYPE=image/jpeg:https://bitterrootchamber.com/wp-content/uploads/2025/08/IMG_0035.jpeg
ORGANIZER;CN="Explore the ARTS":MAILTO:barbaraliss101@gmail.com
END:VEVENT
BEGIN:VEVENT
DTSTART;TZID=America/Denver:20260902T173000
DTEND;TZID=America/Denver:20260902T190000
DTSTAMP:20260423T145528
CREATED:20260218T233249Z
LAST-MODIFIED:20260219T001940Z
UID:10009462-1788370200-1788375600@bitterrootchamber.com
SUMMARY:Writers Circle
DESCRIPTION:Writers share their prose in a supportive community. Prompts offered at bimonthly meeting 1st and 3rd Wednesday of the month. Feel free to share whatever writings you wish to bring.
URL:https://bitterrootchamber.com/event/writers-circle-3/2026-09-02/
LOCATION:Explore the Arts\, 701 Main St.\, Hamilton\, 59840
CATEGORIES:Community Events
ATTACH;FMTTYPE=image/jpeg:https://bitterrootchamber.com/wp-content/uploads/2025/08/IMG_0035.jpeg
ORGANIZER;CN="Explore the ARTS":MAILTO:barbaraliss101@gmail.com
END:VEVENT
BEGIN:VEVENT
DTSTART;TZID=America/Denver:20261007T173000
DTEND;TZID=America/Denver:20261007T190000
DTSTAMP:20260423T145528
CREATED:20260218T233249Z
LAST-MODIFIED:20260219T001940Z
UID:10009463-1791394200-1791399600@bitterrootchamber.com
SUMMARY:Writers Circle
DESCRIPTION:Writers share their prose in a supportive community. Prompts offered at bimonthly meeting 1st and 3rd Wednesday of the month. Feel free to share whatever writings you wish to bring.
URL:https://bitterrootchamber.com/event/writers-circle-3/2026-10-07/
LOCATION:Explore the Arts\, 701 Main St.\, Hamilton\, 59840
CATEGORIES:Community Events
ATTACH;FMTTYPE=image/jpeg:https://bitterrootchamber.com/wp-content/uploads/2025/08/IMG_0035.jpeg
ORGANIZER;CN="Explore the ARTS":MAILTO:barbaraliss101@gmail.com
END:VEVENT
BEGIN:VEVENT
DTSTART;TZID=America/Denver:20261104T173000
DTEND;TZID=America/Denver:20261104T190000
DTSTAMP:20260423T145528
CREATED:20260218T233249Z
LAST-MODIFIED:20260219T001940Z
UID:10009464-1793813400-1793818800@bitterrootchamber.com
SUMMARY:Writers Circle
DESCRIPTION:Writers share their prose in a supportive community. Prompts offered at bimonthly meeting 1st and 3rd Wednesday of the month. Feel free to share whatever writings you wish to bring.
URL:https://bitterrootchamber.com/event/writers-circle-3/2026-11-04/
LOCATION:Explore the Arts\, 701 Main St.\, Hamilton\, 59840
CATEGORIES:Community Events
ATTACH;FMTTYPE=image/jpeg:https://bitterrootchamber.com/wp-content/uploads/2025/08/IMG_0035.jpeg
ORGANIZER;CN="Explore the ARTS":MAILTO:barbaraliss101@gmail.com
END:VEVENT
BEGIN:VEVENT
DTSTART;TZID=America/Denver:20261202T173000
DTEND;TZID=America/Denver:20261202T190000
DTSTAMP:20260423T145528
CREATED:20260218T233249Z
LAST-MODIFIED:20260219T001940Z
UID:10009465-1796232600-1796238000@bitterrootchamber.com
SUMMARY:Writers Circle
DESCRIPTION:Writers share their prose in a supportive community. Prompts offered at bimonthly meeting 1st and 3rd Wednesday of the month. Feel free to share whatever writings you wish to bring.
URL:https://bitterrootchamber.com/event/writers-circle-3/2026-12-02/
LOCATION:Explore the Arts\, 701 Main St.\, Hamilton\, 59840
CATEGORIES:Community Events
ATTACH;FMTTYPE=image/jpeg:https://bitterrootchamber.com/wp-content/uploads/2025/08/IMG_0035.jpeg
ORGANIZER;CN="Explore the ARTS":MAILTO:barbaraliss101@gmail.com
END:VEVENT
BEGIN:VEVENT
DTSTART;TZID=America/Denver:20270106T173000
DTEND;TZID=America/Denver:20270106T190000
DTSTAMP:20260423T145528
CREATED:20260218T233249Z
LAST-MODIFIED:20260219T001940Z
UID:10009466-1799256600-1799262000@bitterrootchamber.com
SUMMARY:Writers Circle
DESCRIPTION:Writers share their prose in a supportive community. Prompts offered at bimonthly meeting 1st and 3rd Wednesday of the month. Feel free to share whatever writings you wish to bring.
URL:https://bitterrootchamber.com/event/writers-circle-3/2027-01-06/
LOCATION:Explore the Arts\, 701 Main St.\, Hamilton\, 59840
CATEGORIES:Community Events
ATTACH;FMTTYPE=image/jpeg:https://bitterrootchamber.com/wp-content/uploads/2025/08/IMG_0035.jpeg
ORGANIZER;CN="Explore the ARTS":MAILTO:barbaraliss101@gmail.com
END:VEVENT
BEGIN:VEVENT
DTSTART;TZID=America/Denver:20270203T173000
DTEND;TZID=America/Denver:20270203T190000
DTSTAMP:20260423T145528
CREATED:20260218T233249Z
LAST-MODIFIED:20260219T001940Z
UID:10009467-1801675800-1801681200@bitterrootchamber.com
SUMMARY:Writers Circle
DESCRIPTION:Writers share their prose in a supportive community. Prompts offered at bimonthly meeting 1st and 3rd Wednesday of the month. Feel free to share whatever writings you wish to bring.
URL:https://bitterrootchamber.com/event/writers-circle-3/2027-02-03/
LOCATION:Explore the Arts\, 701 Main St.\, Hamilton\, 59840
CATEGORIES:Community Events
ATTACH;FMTTYPE=image/jpeg:https://bitterrootchamber.com/wp-content/uploads/2025/08/IMG_0035.jpeg
ORGANIZER;CN="Explore the ARTS":MAILTO:barbaraliss101@gmail.com
END:VEVENT
BEGIN:VEVENT
DTSTART;TZID=America/Denver:20270303T173000
DTEND;TZID=America/Denver:20270303T190000
DTSTAMP:20260423T145528
CREATED:20260218T233249Z
LAST-MODIFIED:20260219T001940Z
UID:10009468-1804095000-1804100400@bitterrootchamber.com
SUMMARY:Writers Circle
DESCRIPTION:Writers share their prose in a supportive community. Prompts offered at bimonthly meeting 1st and 3rd Wednesday of the month. Feel free to share whatever writings you wish to bring.
URL:https://bitterrootchamber.com/event/writers-circle-3/2027-03-03/
LOCATION:Explore the Arts\, 701 Main St.\, Hamilton\, 59840
CATEGORIES:Community Events
ATTACH;FMTTYPE=image/jpeg:https://bitterrootchamber.com/wp-content/uploads/2025/08/IMG_0035.jpeg
ORGANIZER;CN="Explore the ARTS":MAILTO:barbaraliss101@gmail.com
END:VEVENT
BEGIN:VEVENT
DTSTART;TZID=America/Denver:20270407T173000
DTEND;TZID=America/Denver:20270407T190000
DTSTAMP:20260423T145528
CREATED:20260218T233249Z
LAST-MODIFIED:20260219T001940Z
UID:10009469-1807119000-1807124400@bitterrootchamber.com
SUMMARY:Writers Circle
DESCRIPTION:Writers share their prose in a supportive community. Prompts offered at bimonthly meeting 1st and 3rd Wednesday of the month. Feel free to share whatever writings you wish to bring.
URL:https://bitterrootchamber.com/event/writers-circle-3/2027-04-07/
LOCATION:Explore the Arts\, 701 Main St.\, Hamilton\, 59840
CATEGORIES:Community Events
ATTACH;FMTTYPE=image/jpeg:https://bitterrootchamber.com/wp-content/uploads/2025/08/IMG_0035.jpeg
ORGANIZER;CN="Explore the ARTS":MAILTO:barbaraliss101@gmail.com
END:VEVENT
BEGIN:VEVENT
DTSTART;TZID=America/Denver:20270505T173000
DTEND;TZID=America/Denver:20270505T190000
DTSTAMP:20260423T145528
CREATED:20260218T233249Z
LAST-MODIFIED:20260219T001940Z
UID:10009470-1809538200-1809543600@bitterrootchamber.com
SUMMARY:Writers Circle
DESCRIPTION:Writers share their prose in a supportive community. Prompts offered at bimonthly meeting 1st and 3rd Wednesday of the month. Feel free to share whatever writings you wish to bring.
URL:https://bitterrootchamber.com/event/writers-circle-3/2027-05-05/
LOCATION:Explore the Arts\, 701 Main St.\, Hamilton\, 59840
CATEGORIES:Community Events
ATTACH;FMTTYPE=image/jpeg:https://bitterrootchamber.com/wp-content/uploads/2025/08/IMG_0035.jpeg
ORGANIZER;CN="Explore the ARTS":MAILTO:barbaraliss101@gmail.com
END:VEVENT
BEGIN:VEVENT
DTSTART;TZID=America/Denver:20270602T173000
DTEND;TZID=America/Denver:20270602T190000
DTSTAMP:20260423T145528
CREATED:20260218T233249Z
LAST-MODIFIED:20260219T001940Z
UID:10009471-1811957400-1811962800@bitterrootchamber.com
SUMMARY:Writers Circle
DESCRIPTION:Writers share their prose in a supportive community. Prompts offered at bimonthly meeting 1st and 3rd Wednesday of the month. Feel free to share whatever writings you wish to bring.
URL:https://bitterrootchamber.com/event/writers-circle-3/2027-06-02/
LOCATION:Explore the Arts\, 701 Main St.\, Hamilton\, 59840
CATEGORIES:Community Events
ATTACH;FMTTYPE=image/jpeg:https://bitterrootchamber.com/wp-content/uploads/2025/08/IMG_0035.jpeg
ORGANIZER;CN="Explore the ARTS":MAILTO:barbaraliss101@gmail.com
END:VEVENT
END:VCALENDAR