BEGIN:VCALENDAR
VERSION:2.0
PRODID:-//Bitterroot Valley Chamber of Commerce - ECPv6.15.15//NONSGML v1.0//EN
CALSCALE:GREGORIAN
METHOD:PUBLISH
X-WR-CALNAME:Bitterroot Valley Chamber of Commerce
X-ORIGINAL-URL:https://bitterrootchamber.com
X-WR-CALDESC:Events for Bitterroot Valley Chamber of Commerce
REFRESH-INTERVAL;VALUE=DURATION:PT1H
X-Robots-Tag:noindex
X-PUBLISHED-TTL:PT1H
BEGIN:VTIMEZONE
TZID:America/Denver
BEGIN:DAYLIGHT
TZOFFSETFROM:-0700
TZOFFSETTO:-0600
TZNAME:MDT
DTSTART:20250309T090000
END:DAYLIGHT
BEGIN:STANDARD
TZOFFSETFROM:-0600
TZOFFSETTO:-0700
TZNAME:MST
DTSTART:20251102T080000
END:STANDARD
BEGIN:DAYLIGHT
TZOFFSETFROM:-0700
TZOFFSETTO:-0600
TZNAME:MDT
DTSTART:20260308T090000
END:DAYLIGHT
BEGIN:STANDARD
TZOFFSETFROM:-0600
TZOFFSETTO:-0700
TZNAME:MST
DTSTART:20261101T080000
END:STANDARD
BEGIN:DAYLIGHT
TZOFFSETFROM:-0700
TZOFFSETTO:-0600
TZNAME:MDT
DTSTART:20270314T090000
END:DAYLIGHT
BEGIN:STANDARD
TZOFFSETFROM:-0600
TZOFFSETTO:-0700
TZNAME:MST
DTSTART:20271107T080000
END:STANDARD
BEGIN:DAYLIGHT
TZOFFSETFROM:-0700
TZOFFSETTO:-0600
TZNAME:MDT
DTSTART:20280312T090000
END:DAYLIGHT
BEGIN:STANDARD
TZOFFSETFROM:-0600
TZOFFSETTO:-0700
TZNAME:MST
DTSTART:20281105T080000
END:STANDARD
BEGIN:DAYLIGHT
TZOFFSETFROM:-0700
TZOFFSETTO:-0600
TZNAME:MDT
DTSTART:20290311T090000
END:DAYLIGHT
BEGIN:STANDARD
TZOFFSETFROM:-0600
TZOFFSETTO:-0700
TZNAME:MST
DTSTART:20291104T080000
END:STANDARD
END:VTIMEZONE
BEGIN:VEVENT
DTSTART;TZID=America/Denver:20260428T160000
DTEND;TZID=America/Denver:20260428T170000
DTSTAMP:20260423T152530
CREATED:20250923T194850Z
LAST-MODIFIED:20250923T194850Z
UID:10005430-1777392000-1777395600@bitterrootchamber.com
SUMMARY:Chamber Agriculture & Local Foods Committee
DESCRIPTION:Strengthening Bitterroot Valley farmers\, ranchers and producers through collaboration\, advocacy\, and promotion to support our economy\, preserve open spaces\, and honor our agricultural heritage for present and future generations.
URL:https://bitterrootchamber.com/event/chamber-agriculture-local-foods-committee/2026-04-28/
CATEGORIES:Agriculture Events,Chamber Events
ATTACH;FMTTYPE=image/jpeg:https://bitterrootchamber.com/wp-content/uploads/2025/09/ALFC-Logo.jpg
END:VEVENT
BEGIN:VEVENT
DTSTART;TZID=America/Denver:20260526T160000
DTEND;TZID=America/Denver:20260526T170000
DTSTAMP:20260423T152530
CREATED:20250923T194850Z
LAST-MODIFIED:20250923T194850Z
UID:10005431-1779811200-1779814800@bitterrootchamber.com
SUMMARY:Chamber Agriculture & Local Foods Committee
DESCRIPTION:Strengthening Bitterroot Valley farmers\, ranchers and producers through collaboration\, advocacy\, and promotion to support our economy\, preserve open spaces\, and honor our agricultural heritage for present and future generations.
URL:https://bitterrootchamber.com/event/chamber-agriculture-local-foods-committee/2026-05-26/
CATEGORIES:Agriculture Events,Chamber Events
ATTACH;FMTTYPE=image/jpeg:https://bitterrootchamber.com/wp-content/uploads/2025/09/ALFC-Logo.jpg
END:VEVENT
BEGIN:VEVENT
DTSTART;TZID=America/Denver:20260630T160000
DTEND;TZID=America/Denver:20260630T170000
DTSTAMP:20260423T152530
CREATED:20250923T194850Z
LAST-MODIFIED:20250923T194850Z
UID:10005432-1782835200-1782838800@bitterrootchamber.com
SUMMARY:Chamber Agriculture & Local Foods Committee
DESCRIPTION:Strengthening Bitterroot Valley farmers\, ranchers and producers through collaboration\, advocacy\, and promotion to support our economy\, preserve open spaces\, and honor our agricultural heritage for present and future generations.
URL:https://bitterrootchamber.com/event/chamber-agriculture-local-foods-committee/2026-06-30/
CATEGORIES:Agriculture Events,Chamber Events
ATTACH;FMTTYPE=image/jpeg:https://bitterrootchamber.com/wp-content/uploads/2025/09/ALFC-Logo.jpg
END:VEVENT
BEGIN:VEVENT
DTSTART;TZID=America/Denver:20260728T160000
DTEND;TZID=America/Denver:20260728T170000
DTSTAMP:20260423T152530
CREATED:20250923T194850Z
LAST-MODIFIED:20250923T194850Z
UID:10005433-1785254400-1785258000@bitterrootchamber.com
SUMMARY:Chamber Agriculture & Local Foods Committee
DESCRIPTION:Strengthening Bitterroot Valley farmers\, ranchers and producers through collaboration\, advocacy\, and promotion to support our economy\, preserve open spaces\, and honor our agricultural heritage for present and future generations.
URL:https://bitterrootchamber.com/event/chamber-agriculture-local-foods-committee/2026-07-28/
CATEGORIES:Agriculture Events,Chamber Events
ATTACH;FMTTYPE=image/jpeg:https://bitterrootchamber.com/wp-content/uploads/2025/09/ALFC-Logo.jpg
END:VEVENT
BEGIN:VEVENT
DTSTART;TZID=America/Denver:20260825T160000
DTEND;TZID=America/Denver:20260825T170000
DTSTAMP:20260423T152530
CREATED:20250923T194850Z
LAST-MODIFIED:20250923T194850Z
UID:10005434-1787673600-1787677200@bitterrootchamber.com
SUMMARY:Chamber Agriculture & Local Foods Committee
DESCRIPTION:Strengthening Bitterroot Valley farmers\, ranchers and producers through collaboration\, advocacy\, and promotion to support our economy\, preserve open spaces\, and honor our agricultural heritage for present and future generations.
URL:https://bitterrootchamber.com/event/chamber-agriculture-local-foods-committee/2026-08-25/
CATEGORIES:Agriculture Events,Chamber Events
ATTACH;FMTTYPE=image/jpeg:https://bitterrootchamber.com/wp-content/uploads/2025/09/ALFC-Logo.jpg
END:VEVENT
BEGIN:VEVENT
DTSTART;TZID=America/Denver:20260929T160000
DTEND;TZID=America/Denver:20260929T170000
DTSTAMP:20260423T152530
CREATED:20250923T194850Z
LAST-MODIFIED:20250923T194850Z
UID:10005435-1790697600-1790701200@bitterrootchamber.com
SUMMARY:Chamber Agriculture & Local Foods Committee
DESCRIPTION:Strengthening Bitterroot Valley farmers\, ranchers and producers through collaboration\, advocacy\, and promotion to support our economy\, preserve open spaces\, and honor our agricultural heritage for present and future generations.
URL:https://bitterrootchamber.com/event/chamber-agriculture-local-foods-committee/2026-09-29/
CATEGORIES:Agriculture Events,Chamber Events
ATTACH;FMTTYPE=image/jpeg:https://bitterrootchamber.com/wp-content/uploads/2025/09/ALFC-Logo.jpg
END:VEVENT
BEGIN:VEVENT
DTSTART;TZID=America/Denver:20261027T160000
DTEND;TZID=America/Denver:20261027T170000
DTSTAMP:20260423T152530
CREATED:20250923T194850Z
LAST-MODIFIED:20250923T194850Z
UID:10005436-1793116800-1793120400@bitterrootchamber.com
SUMMARY:Chamber Agriculture & Local Foods Committee
DESCRIPTION:Strengthening Bitterroot Valley farmers\, ranchers and producers through collaboration\, advocacy\, and promotion to support our economy\, preserve open spaces\, and honor our agricultural heritage for present and future generations.
URL:https://bitterrootchamber.com/event/chamber-agriculture-local-foods-committee/2026-10-27/
CATEGORIES:Agriculture Events,Chamber Events
ATTACH;FMTTYPE=image/jpeg:https://bitterrootchamber.com/wp-content/uploads/2025/09/ALFC-Logo.jpg
END:VEVENT
BEGIN:VEVENT
DTSTART;TZID=America/Denver:20261124T160000
DTEND;TZID=America/Denver:20261124T170000
DTSTAMP:20260423T152530
CREATED:20250923T194850Z
LAST-MODIFIED:20250923T194850Z
UID:10005437-1795536000-1795539600@bitterrootchamber.com
SUMMARY:Chamber Agriculture & Local Foods Committee
DESCRIPTION:Strengthening Bitterroot Valley farmers\, ranchers and producers through collaboration\, advocacy\, and promotion to support our economy\, preserve open spaces\, and honor our agricultural heritage for present and future generations.
URL:https://bitterrootchamber.com/event/chamber-agriculture-local-foods-committee/2026-11-24/
CATEGORIES:Agriculture Events,Chamber Events
ATTACH;FMTTYPE=image/jpeg:https://bitterrootchamber.com/wp-content/uploads/2025/09/ALFC-Logo.jpg
END:VEVENT
BEGIN:VEVENT
DTSTART;TZID=America/Denver:20261229T160000
DTEND;TZID=America/Denver:20261229T170000
DTSTAMP:20260423T152530
CREATED:20250923T194850Z
LAST-MODIFIED:20250923T194850Z
UID:10005438-1798560000-1798563600@bitterrootchamber.com
SUMMARY:Chamber Agriculture & Local Foods Committee
DESCRIPTION:Strengthening Bitterroot Valley farmers\, ranchers and producers through collaboration\, advocacy\, and promotion to support our economy\, preserve open spaces\, and honor our agricultural heritage for present and future generations.
URL:https://bitterrootchamber.com/event/chamber-agriculture-local-foods-committee/2026-12-29/
CATEGORIES:Agriculture Events,Chamber Events
ATTACH;FMTTYPE=image/jpeg:https://bitterrootchamber.com/wp-content/uploads/2025/09/ALFC-Logo.jpg
END:VEVENT
BEGIN:VEVENT
DTSTART;TZID=America/Denver:20270126T160000
DTEND;TZID=America/Denver:20270126T170000
DTSTAMP:20260423T152530
CREATED:20250923T194850Z
LAST-MODIFIED:20250923T194850Z
UID:10005439-1800979200-1800982800@bitterrootchamber.com
SUMMARY:Chamber Agriculture & Local Foods Committee
DESCRIPTION:Strengthening Bitterroot Valley farmers\, ranchers and producers through collaboration\, advocacy\, and promotion to support our economy\, preserve open spaces\, and honor our agricultural heritage for present and future generations.
URL:https://bitterrootchamber.com/event/chamber-agriculture-local-foods-committee/2027-01-26/
CATEGORIES:Agriculture Events,Chamber Events
ATTACH;FMTTYPE=image/jpeg:https://bitterrootchamber.com/wp-content/uploads/2025/09/ALFC-Logo.jpg
END:VEVENT
BEGIN:VEVENT
DTSTART;TZID=America/Denver:20270223T160000
DTEND;TZID=America/Denver:20270223T170000
DTSTAMP:20260423T152530
CREATED:20250923T194850Z
LAST-MODIFIED:20250923T194850Z
UID:10005440-1803398400-1803402000@bitterrootchamber.com
SUMMARY:Chamber Agriculture & Local Foods Committee
DESCRIPTION:Strengthening Bitterroot Valley farmers\, ranchers and producers through collaboration\, advocacy\, and promotion to support our economy\, preserve open spaces\, and honor our agricultural heritage for present and future generations.
URL:https://bitterrootchamber.com/event/chamber-agriculture-local-foods-committee/2027-02-23/
CATEGORIES:Agriculture Events,Chamber Events
ATTACH;FMTTYPE=image/jpeg:https://bitterrootchamber.com/wp-content/uploads/2025/09/ALFC-Logo.jpg
END:VEVENT
BEGIN:VEVENT
DTSTART;TZID=America/Denver:20270330T160000
DTEND;TZID=America/Denver:20270330T170000
DTSTAMP:20260423T152530
CREATED:20250923T194850Z
LAST-MODIFIED:20250923T194850Z
UID:10005441-1806422400-1806426000@bitterrootchamber.com
SUMMARY:Chamber Agriculture & Local Foods Committee
DESCRIPTION:Strengthening Bitterroot Valley farmers\, ranchers and producers through collaboration\, advocacy\, and promotion to support our economy\, preserve open spaces\, and honor our agricultural heritage for present and future generations.
URL:https://bitterrootchamber.com/event/chamber-agriculture-local-foods-committee/2027-03-30/
CATEGORIES:Agriculture Events,Chamber Events
ATTACH;FMTTYPE=image/jpeg:https://bitterrootchamber.com/wp-content/uploads/2025/09/ALFC-Logo.jpg
END:VEVENT
BEGIN:VEVENT
DTSTART;TZID=America/Denver:20270427T160000
DTEND;TZID=America/Denver:20270427T170000
DTSTAMP:20260423T152530
CREATED:20250923T194850Z
LAST-MODIFIED:20250923T194850Z
UID:10005442-1808841600-1808845200@bitterrootchamber.com
SUMMARY:Chamber Agriculture & Local Foods Committee
DESCRIPTION:Strengthening Bitterroot Valley farmers\, ranchers and producers through collaboration\, advocacy\, and promotion to support our economy\, preserve open spaces\, and honor our agricultural heritage for present and future generations.
URL:https://bitterrootchamber.com/event/chamber-agriculture-local-foods-committee/2027-04-27/
CATEGORIES:Agriculture Events,Chamber Events
ATTACH;FMTTYPE=image/jpeg:https://bitterrootchamber.com/wp-content/uploads/2025/09/ALFC-Logo.jpg
END:VEVENT
BEGIN:VEVENT
DTSTART;TZID=America/Denver:20270525T160000
DTEND;TZID=America/Denver:20270525T170000
DTSTAMP:20260423T152530
CREATED:20250923T194850Z
LAST-MODIFIED:20250923T194850Z
UID:10005443-1811260800-1811264400@bitterrootchamber.com
SUMMARY:Chamber Agriculture & Local Foods Committee
DESCRIPTION:Strengthening Bitterroot Valley farmers\, ranchers and producers through collaboration\, advocacy\, and promotion to support our economy\, preserve open spaces\, and honor our agricultural heritage for present and future generations.
URL:https://bitterrootchamber.com/event/chamber-agriculture-local-foods-committee/2027-05-25/
CATEGORIES:Agriculture Events,Chamber Events
ATTACH;FMTTYPE=image/jpeg:https://bitterrootchamber.com/wp-content/uploads/2025/09/ALFC-Logo.jpg
END:VEVENT
BEGIN:VEVENT
DTSTART;TZID=America/Denver:20270629T160000
DTEND;TZID=America/Denver:20270629T170000
DTSTAMP:20260423T152530
CREATED:20250923T194850Z
LAST-MODIFIED:20250923T194850Z
UID:10005444-1814284800-1814288400@bitterrootchamber.com
SUMMARY:Chamber Agriculture & Local Foods Committee
DESCRIPTION:Strengthening Bitterroot Valley farmers\, ranchers and producers through collaboration\, advocacy\, and promotion to support our economy\, preserve open spaces\, and honor our agricultural heritage for present and future generations.
URL:https://bitterrootchamber.com/event/chamber-agriculture-local-foods-committee/2027-06-29/
CATEGORIES:Agriculture Events,Chamber Events
ATTACH;FMTTYPE=image/jpeg:https://bitterrootchamber.com/wp-content/uploads/2025/09/ALFC-Logo.jpg
END:VEVENT
BEGIN:VEVENT
DTSTART;TZID=America/Denver:20270727T160000
DTEND;TZID=America/Denver:20270727T170000
DTSTAMP:20260423T152530
CREATED:20250923T194850Z
LAST-MODIFIED:20250923T194850Z
UID:10005445-1816704000-1816707600@bitterrootchamber.com
SUMMARY:Chamber Agriculture & Local Foods Committee
DESCRIPTION:Strengthening Bitterroot Valley farmers\, ranchers and producers through collaboration\, advocacy\, and promotion to support our economy\, preserve open spaces\, and honor our agricultural heritage for present and future generations.
URL:https://bitterrootchamber.com/event/chamber-agriculture-local-foods-committee/2027-07-27/
CATEGORIES:Agriculture Events,Chamber Events
ATTACH;FMTTYPE=image/jpeg:https://bitterrootchamber.com/wp-content/uploads/2025/09/ALFC-Logo.jpg
END:VEVENT
BEGIN:VEVENT
DTSTART;TZID=America/Denver:20270831T160000
DTEND;TZID=America/Denver:20270831T170000
DTSTAMP:20260423T152530
CREATED:20250923T194850Z
LAST-MODIFIED:20250923T194850Z
UID:10005446-1819728000-1819731600@bitterrootchamber.com
SUMMARY:Chamber Agriculture & Local Foods Committee
DESCRIPTION:Strengthening Bitterroot Valley farmers\, ranchers and producers through collaboration\, advocacy\, and promotion to support our economy\, preserve open spaces\, and honor our agricultural heritage for present and future generations.
URL:https://bitterrootchamber.com/event/chamber-agriculture-local-foods-committee/2027-08-31/
CATEGORIES:Agriculture Events,Chamber Events
ATTACH;FMTTYPE=image/jpeg:https://bitterrootchamber.com/wp-content/uploads/2025/09/ALFC-Logo.jpg
END:VEVENT
BEGIN:VEVENT
DTSTART;TZID=America/Denver:20270928T160000
DTEND;TZID=America/Denver:20270928T170000
DTSTAMP:20260423T152530
CREATED:20250923T194850Z
LAST-MODIFIED:20250923T194850Z
UID:10005447-1822147200-1822150800@bitterrootchamber.com
SUMMARY:Chamber Agriculture & Local Foods Committee
DESCRIPTION:Strengthening Bitterroot Valley farmers\, ranchers and producers through collaboration\, advocacy\, and promotion to support our economy\, preserve open spaces\, and honor our agricultural heritage for present and future generations.
URL:https://bitterrootchamber.com/event/chamber-agriculture-local-foods-committee/2027-09-28/
CATEGORIES:Agriculture Events,Chamber Events
ATTACH;FMTTYPE=image/jpeg:https://bitterrootchamber.com/wp-content/uploads/2025/09/ALFC-Logo.jpg
END:VEVENT
BEGIN:VEVENT
DTSTART;TZID=America/Denver:20271026T160000
DTEND;TZID=America/Denver:20271026T170000
DTSTAMP:20260423T152530
CREATED:20250923T194850Z
LAST-MODIFIED:20250923T194850Z
UID:10005448-1824566400-1824570000@bitterrootchamber.com
SUMMARY:Chamber Agriculture & Local Foods Committee
DESCRIPTION:Strengthening Bitterroot Valley farmers\, ranchers and producers through collaboration\, advocacy\, and promotion to support our economy\, preserve open spaces\, and honor our agricultural heritage for present and future generations.
URL:https://bitterrootchamber.com/event/chamber-agriculture-local-foods-committee/2027-10-26/
CATEGORIES:Agriculture Events,Chamber Events
ATTACH;FMTTYPE=image/jpeg:https://bitterrootchamber.com/wp-content/uploads/2025/09/ALFC-Logo.jpg
END:VEVENT
BEGIN:VEVENT
DTSTART;TZID=America/Denver:20271130T160000
DTEND;TZID=America/Denver:20271130T170000
DTSTAMP:20260423T152530
CREATED:20250923T194850Z
LAST-MODIFIED:20250923T194850Z
UID:10005449-1827590400-1827594000@bitterrootchamber.com
SUMMARY:Chamber Agriculture & Local Foods Committee
DESCRIPTION:Strengthening Bitterroot Valley farmers\, ranchers and producers through collaboration\, advocacy\, and promotion to support our economy\, preserve open spaces\, and honor our agricultural heritage for present and future generations.
URL:https://bitterrootchamber.com/event/chamber-agriculture-local-foods-committee/2027-11-30/
CATEGORIES:Agriculture Events,Chamber Events
ATTACH;FMTTYPE=image/jpeg:https://bitterrootchamber.com/wp-content/uploads/2025/09/ALFC-Logo.jpg
END:VEVENT
BEGIN:VEVENT
DTSTART;TZID=America/Denver:20271228T160000
DTEND;TZID=America/Denver:20271228T170000
DTSTAMP:20260423T152530
CREATED:20250923T194850Z
LAST-MODIFIED:20250923T194850Z
UID:10005450-1830009600-1830013200@bitterrootchamber.com
SUMMARY:Chamber Agriculture & Local Foods Committee
DESCRIPTION:Strengthening Bitterroot Valley farmers\, ranchers and producers through collaboration\, advocacy\, and promotion to support our economy\, preserve open spaces\, and honor our agricultural heritage for present and future generations.
URL:https://bitterrootchamber.com/event/chamber-agriculture-local-foods-committee/2027-12-28/
CATEGORIES:Agriculture Events,Chamber Events
ATTACH;FMTTYPE=image/jpeg:https://bitterrootchamber.com/wp-content/uploads/2025/09/ALFC-Logo.jpg
END:VEVENT
BEGIN:VEVENT
DTSTART;TZID=America/Denver:20280125T160000
DTEND;TZID=America/Denver:20280125T170000
DTSTAMP:20260423T152530
CREATED:20250923T194850Z
LAST-MODIFIED:20250923T194850Z
UID:10005451-1832428800-1832432400@bitterrootchamber.com
SUMMARY:Chamber Agriculture & Local Foods Committee
DESCRIPTION:Strengthening Bitterroot Valley farmers\, ranchers and producers through collaboration\, advocacy\, and promotion to support our economy\, preserve open spaces\, and honor our agricultural heritage for present and future generations.
URL:https://bitterrootchamber.com/event/chamber-agriculture-local-foods-committee/2028-01-25/
CATEGORIES:Agriculture Events,Chamber Events
ATTACH;FMTTYPE=image/jpeg:https://bitterrootchamber.com/wp-content/uploads/2025/09/ALFC-Logo.jpg
END:VEVENT
BEGIN:VEVENT
DTSTART;TZID=America/Denver:20280229T160000
DTEND;TZID=America/Denver:20280229T170000
DTSTAMP:20260423T152530
CREATED:20250923T194850Z
LAST-MODIFIED:20250923T194850Z
UID:10005452-1835452800-1835456400@bitterrootchamber.com
SUMMARY:Chamber Agriculture & Local Foods Committee
DESCRIPTION:Strengthening Bitterroot Valley farmers\, ranchers and producers through collaboration\, advocacy\, and promotion to support our economy\, preserve open spaces\, and honor our agricultural heritage for present and future generations.
URL:https://bitterrootchamber.com/event/chamber-agriculture-local-foods-committee/2028-02-29/
CATEGORIES:Agriculture Events,Chamber Events
ATTACH;FMTTYPE=image/jpeg:https://bitterrootchamber.com/wp-content/uploads/2025/09/ALFC-Logo.jpg
END:VEVENT
BEGIN:VEVENT
DTSTART;TZID=America/Denver:20280328T160000
DTEND;TZID=America/Denver:20280328T170000
DTSTAMP:20260423T152530
CREATED:20250923T194850Z
LAST-MODIFIED:20250923T194850Z
UID:10005453-1837872000-1837875600@bitterrootchamber.com
SUMMARY:Chamber Agriculture & Local Foods Committee
DESCRIPTION:Strengthening Bitterroot Valley farmers\, ranchers and producers through collaboration\, advocacy\, and promotion to support our economy\, preserve open spaces\, and honor our agricultural heritage for present and future generations.
URL:https://bitterrootchamber.com/event/chamber-agriculture-local-foods-committee/2028-03-28/
CATEGORIES:Agriculture Events,Chamber Events
ATTACH;FMTTYPE=image/jpeg:https://bitterrootchamber.com/wp-content/uploads/2025/09/ALFC-Logo.jpg
END:VEVENT
BEGIN:VEVENT
DTSTART;TZID=America/Denver:20280425T160000
DTEND;TZID=America/Denver:20280425T170000
DTSTAMP:20260423T152530
CREATED:20250923T194850Z
LAST-MODIFIED:20250923T194850Z
UID:10005454-1840291200-1840294800@bitterrootchamber.com
SUMMARY:Chamber Agriculture & Local Foods Committee
DESCRIPTION:Strengthening Bitterroot Valley farmers\, ranchers and producers through collaboration\, advocacy\, and promotion to support our economy\, preserve open spaces\, and honor our agricultural heritage for present and future generations.
URL:https://bitterrootchamber.com/event/chamber-agriculture-local-foods-committee/2028-04-25/
CATEGORIES:Agriculture Events,Chamber Events
ATTACH;FMTTYPE=image/jpeg:https://bitterrootchamber.com/wp-content/uploads/2025/09/ALFC-Logo.jpg
END:VEVENT
BEGIN:VEVENT
DTSTART;TZID=America/Denver:20280530T160000
DTEND;TZID=America/Denver:20280530T170000
DTSTAMP:20260423T152530
CREATED:20250923T194850Z
LAST-MODIFIED:20250923T194850Z
UID:10005455-1843315200-1843318800@bitterrootchamber.com
SUMMARY:Chamber Agriculture & Local Foods Committee
DESCRIPTION:Strengthening Bitterroot Valley farmers\, ranchers and producers through collaboration\, advocacy\, and promotion to support our economy\, preserve open spaces\, and honor our agricultural heritage for present and future generations.
URL:https://bitterrootchamber.com/event/chamber-agriculture-local-foods-committee/2028-05-30/
CATEGORIES:Agriculture Events,Chamber Events
ATTACH;FMTTYPE=image/jpeg:https://bitterrootchamber.com/wp-content/uploads/2025/09/ALFC-Logo.jpg
END:VEVENT
BEGIN:VEVENT
DTSTART;TZID=America/Denver:20280627T160000
DTEND;TZID=America/Denver:20280627T170000
DTSTAMP:20260423T152530
CREATED:20250923T194850Z
LAST-MODIFIED:20250923T194850Z
UID:10005456-1845734400-1845738000@bitterrootchamber.com
SUMMARY:Chamber Agriculture & Local Foods Committee
DESCRIPTION:Strengthening Bitterroot Valley farmers\, ranchers and producers through collaboration\, advocacy\, and promotion to support our economy\, preserve open spaces\, and honor our agricultural heritage for present and future generations.
URL:https://bitterrootchamber.com/event/chamber-agriculture-local-foods-committee/2028-06-27/
CATEGORIES:Agriculture Events,Chamber Events
ATTACH;FMTTYPE=image/jpeg:https://bitterrootchamber.com/wp-content/uploads/2025/09/ALFC-Logo.jpg
END:VEVENT
BEGIN:VEVENT
DTSTART;TZID=America/Denver:20280725T160000
DTEND;TZID=America/Denver:20280725T170000
DTSTAMP:20260423T152530
CREATED:20250923T194850Z
LAST-MODIFIED:20250923T194850Z
UID:10005457-1848153600-1848157200@bitterrootchamber.com
SUMMARY:Chamber Agriculture & Local Foods Committee
DESCRIPTION:Strengthening Bitterroot Valley farmers\, ranchers and producers through collaboration\, advocacy\, and promotion to support our economy\, preserve open spaces\, and honor our agricultural heritage for present and future generations.
URL:https://bitterrootchamber.com/event/chamber-agriculture-local-foods-committee/2028-07-25/
CATEGORIES:Agriculture Events,Chamber Events
ATTACH;FMTTYPE=image/jpeg:https://bitterrootchamber.com/wp-content/uploads/2025/09/ALFC-Logo.jpg
END:VEVENT
BEGIN:VEVENT
DTSTART;TZID=America/Denver:20280829T160000
DTEND;TZID=America/Denver:20280829T170000
DTSTAMP:20260423T152530
CREATED:20250923T194850Z
LAST-MODIFIED:20250923T194850Z
UID:10005458-1851177600-1851181200@bitterrootchamber.com
SUMMARY:Chamber Agriculture & Local Foods Committee
DESCRIPTION:Strengthening Bitterroot Valley farmers\, ranchers and producers through collaboration\, advocacy\, and promotion to support our economy\, preserve open spaces\, and honor our agricultural heritage for present and future generations.
URL:https://bitterrootchamber.com/event/chamber-agriculture-local-foods-committee/2028-08-29/
CATEGORIES:Agriculture Events,Chamber Events
ATTACH;FMTTYPE=image/jpeg:https://bitterrootchamber.com/wp-content/uploads/2025/09/ALFC-Logo.jpg
END:VEVENT
BEGIN:VEVENT
DTSTART;TZID=America/Denver:20280926T160000
DTEND;TZID=America/Denver:20280926T170000
DTSTAMP:20260423T152530
CREATED:20250923T194850Z
LAST-MODIFIED:20250923T194850Z
UID:10005459-1853596800-1853600400@bitterrootchamber.com
SUMMARY:Chamber Agriculture & Local Foods Committee
DESCRIPTION:Strengthening Bitterroot Valley farmers\, ranchers and producers through collaboration\, advocacy\, and promotion to support our economy\, preserve open spaces\, and honor our agricultural heritage for present and future generations.
URL:https://bitterrootchamber.com/event/chamber-agriculture-local-foods-committee/2028-09-26/
CATEGORIES:Agriculture Events,Chamber Events
ATTACH;FMTTYPE=image/jpeg:https://bitterrootchamber.com/wp-content/uploads/2025/09/ALFC-Logo.jpg
END:VEVENT
END:VCALENDAR