BEGIN:VCALENDAR
VERSION:2.0
PRODID:-//Bitterroot Valley Chamber of Commerce - ECPv6.15.15//NONSGML v1.0//EN
CALSCALE:GREGORIAN
METHOD:PUBLISH
X-WR-CALNAME:Bitterroot Valley Chamber of Commerce
X-ORIGINAL-URL:https://bitterrootchamber.com
X-WR-CALDESC:Events for Bitterroot Valley Chamber of Commerce
REFRESH-INTERVAL;VALUE=DURATION:PT1H
X-Robots-Tag:noindex
X-PUBLISHED-TTL:PT1H
BEGIN:VTIMEZONE
TZID:America/Denver
BEGIN:DAYLIGHT
TZOFFSETFROM:-0700
TZOFFSETTO:-0600
TZNAME:MDT
DTSTART:20250309T090000
END:DAYLIGHT
BEGIN:STANDARD
TZOFFSETFROM:-0600
TZOFFSETTO:-0700
TZNAME:MST
DTSTART:20251102T080000
END:STANDARD
BEGIN:DAYLIGHT
TZOFFSETFROM:-0700
TZOFFSETTO:-0600
TZNAME:MDT
DTSTART:20260308T090000
END:DAYLIGHT
BEGIN:STANDARD
TZOFFSETFROM:-0600
TZOFFSETTO:-0700
TZNAME:MST
DTSTART:20261101T080000
END:STANDARD
BEGIN:DAYLIGHT
TZOFFSETFROM:-0700
TZOFFSETTO:-0600
TZNAME:MDT
DTSTART:20270314T090000
END:DAYLIGHT
BEGIN:STANDARD
TZOFFSETFROM:-0600
TZOFFSETTO:-0700
TZNAME:MST
DTSTART:20271107T080000
END:STANDARD
BEGIN:DAYLIGHT
TZOFFSETFROM:-0700
TZOFFSETTO:-0600
TZNAME:MDT
DTSTART:20280312T090000
END:DAYLIGHT
BEGIN:STANDARD
TZOFFSETFROM:-0600
TZOFFSETTO:-0700
TZNAME:MST
DTSTART:20281105T080000
END:STANDARD
END:VTIMEZONE
BEGIN:VEVENT
DTSTART;TZID=America/Denver:20260423T183000
DTEND;TZID=America/Denver:20260423T200000
DTSTAMP:20260423T162056
CREATED:20260203T233807Z
LAST-MODIFIED:20260203T234154Z
UID:10008298-1776969000-1776974400@bitterrootchamber.com
SUMMARY:Drum Circle
DESCRIPTION:Jerry leads this casual drumming session in the studio (and Tom usually joins him!). A great way to release tension\, have some fun\, and gather with new friends.\nNo skill or experience necessary. Just a willingness to try! All manner of percussive instruments available.\nNo need to register\, just show up/drop in\, between 6:30-8:00pm.\n$5-15 suggested donation.
URL:https://bitterrootchamber.com/event/drum-circle/2026-04-23/
LOCATION:open-ended community art center\, 201 Daly Ave.\, Hamilton\, 59840
CATEGORIES:Community Events
ATTACH;FMTTYPE=image/png:https://bitterrootchamber.com/wp-content/uploads/2026/02/o-e-Drums.png
END:VEVENT
BEGIN:VEVENT
DTSTART;TZID=America/Denver:20260507T183000
DTEND;TZID=America/Denver:20260507T200000
DTSTAMP:20260423T162056
CREATED:20260203T233807Z
LAST-MODIFIED:20260203T234154Z
UID:10008299-1778178600-1778184000@bitterrootchamber.com
SUMMARY:Drum Circle
DESCRIPTION:Jerry leads this casual drumming session in the studio (and Tom usually joins him!). A great way to release tension\, have some fun\, and gather with new friends.\nNo skill or experience necessary. Just a willingness to try! All manner of percussive instruments available.\nNo need to register\, just show up/drop in\, between 6:30-8:00pm.\n$5-15 suggested donation.
URL:https://bitterrootchamber.com/event/drum-circle/2026-05-07/
LOCATION:open-ended community art center\, 201 Daly Ave.\, Hamilton\, 59840
CATEGORIES:Community Events
ATTACH;FMTTYPE=image/png:https://bitterrootchamber.com/wp-content/uploads/2026/02/o-e-Drums.png
END:VEVENT
BEGIN:VEVENT
DTSTART;TZID=America/Denver:20260521T183000
DTEND;TZID=America/Denver:20260521T200000
DTSTAMP:20260423T162056
CREATED:20260203T233807Z
LAST-MODIFIED:20260203T234154Z
UID:10008300-1779388200-1779393600@bitterrootchamber.com
SUMMARY:Drum Circle
DESCRIPTION:Jerry leads this casual drumming session in the studio (and Tom usually joins him!). A great way to release tension\, have some fun\, and gather with new friends.\nNo skill or experience necessary. Just a willingness to try! All manner of percussive instruments available.\nNo need to register\, just show up/drop in\, between 6:30-8:00pm.\n$5-15 suggested donation.
URL:https://bitterrootchamber.com/event/drum-circle/2026-05-21/
LOCATION:open-ended community art center\, 201 Daly Ave.\, Hamilton\, 59840
CATEGORIES:Community Events
ATTACH;FMTTYPE=image/png:https://bitterrootchamber.com/wp-content/uploads/2026/02/o-e-Drums.png
END:VEVENT
BEGIN:VEVENT
DTSTART;TZID=America/Denver:20260604T183000
DTEND;TZID=America/Denver:20260604T200000
DTSTAMP:20260423T162056
CREATED:20260203T233807Z
LAST-MODIFIED:20260203T234154Z
UID:10008301-1780597800-1780603200@bitterrootchamber.com
SUMMARY:Drum Circle
DESCRIPTION:Jerry leads this casual drumming session in the studio (and Tom usually joins him!). A great way to release tension\, have some fun\, and gather with new friends.\nNo skill or experience necessary. Just a willingness to try! All manner of percussive instruments available.\nNo need to register\, just show up/drop in\, between 6:30-8:00pm.\n$5-15 suggested donation.
URL:https://bitterrootchamber.com/event/drum-circle/2026-06-04/
LOCATION:open-ended community art center\, 201 Daly Ave.\, Hamilton\, 59840
CATEGORIES:Community Events
ATTACH;FMTTYPE=image/png:https://bitterrootchamber.com/wp-content/uploads/2026/02/o-e-Drums.png
END:VEVENT
BEGIN:VEVENT
DTSTART;TZID=America/Denver:20260618T183000
DTEND;TZID=America/Denver:20260618T200000
DTSTAMP:20260423T162056
CREATED:20260203T233807Z
LAST-MODIFIED:20260203T234154Z
UID:10008302-1781807400-1781812800@bitterrootchamber.com
SUMMARY:Drum Circle
DESCRIPTION:Jerry leads this casual drumming session in the studio (and Tom usually joins him!). A great way to release tension\, have some fun\, and gather with new friends.\nNo skill or experience necessary. Just a willingness to try! All manner of percussive instruments available.\nNo need to register\, just show up/drop in\, between 6:30-8:00pm.\n$5-15 suggested donation.
URL:https://bitterrootchamber.com/event/drum-circle/2026-06-18/
LOCATION:open-ended community art center\, 201 Daly Ave.\, Hamilton\, 59840
CATEGORIES:Community Events
ATTACH;FMTTYPE=image/png:https://bitterrootchamber.com/wp-content/uploads/2026/02/o-e-Drums.png
END:VEVENT
BEGIN:VEVENT
DTSTART;TZID=America/Denver:20260702T183000
DTEND;TZID=America/Denver:20260702T200000
DTSTAMP:20260423T162056
CREATED:20260203T233807Z
LAST-MODIFIED:20260203T234154Z
UID:10008303-1783017000-1783022400@bitterrootchamber.com
SUMMARY:Drum Circle
DESCRIPTION:Jerry leads this casual drumming session in the studio (and Tom usually joins him!). A great way to release tension\, have some fun\, and gather with new friends.\nNo skill or experience necessary. Just a willingness to try! All manner of percussive instruments available.\nNo need to register\, just show up/drop in\, between 6:30-8:00pm.\n$5-15 suggested donation.
URL:https://bitterrootchamber.com/event/drum-circle/2026-07-02/
LOCATION:open-ended community art center\, 201 Daly Ave.\, Hamilton\, 59840
CATEGORIES:Community Events
ATTACH;FMTTYPE=image/png:https://bitterrootchamber.com/wp-content/uploads/2026/02/o-e-Drums.png
END:VEVENT
BEGIN:VEVENT
DTSTART;TZID=America/Denver:20260716T183000
DTEND;TZID=America/Denver:20260716T200000
DTSTAMP:20260423T162056
CREATED:20260203T233807Z
LAST-MODIFIED:20260203T234154Z
UID:10008304-1784226600-1784232000@bitterrootchamber.com
SUMMARY:Drum Circle
DESCRIPTION:Jerry leads this casual drumming session in the studio (and Tom usually joins him!). A great way to release tension\, have some fun\, and gather with new friends.\nNo skill or experience necessary. Just a willingness to try! All manner of percussive instruments available.\nNo need to register\, just show up/drop in\, between 6:30-8:00pm.\n$5-15 suggested donation.
URL:https://bitterrootchamber.com/event/drum-circle/2026-07-16/
LOCATION:open-ended community art center\, 201 Daly Ave.\, Hamilton\, 59840
CATEGORIES:Community Events
ATTACH;FMTTYPE=image/png:https://bitterrootchamber.com/wp-content/uploads/2026/02/o-e-Drums.png
END:VEVENT
BEGIN:VEVENT
DTSTART;TZID=America/Denver:20260730T183000
DTEND;TZID=America/Denver:20260730T200000
DTSTAMP:20260423T162056
CREATED:20260203T233807Z
LAST-MODIFIED:20260203T234154Z
UID:10008305-1785436200-1785441600@bitterrootchamber.com
SUMMARY:Drum Circle
DESCRIPTION:Jerry leads this casual drumming session in the studio (and Tom usually joins him!). A great way to release tension\, have some fun\, and gather with new friends.\nNo skill or experience necessary. Just a willingness to try! All manner of percussive instruments available.\nNo need to register\, just show up/drop in\, between 6:30-8:00pm.\n$5-15 suggested donation.
URL:https://bitterrootchamber.com/event/drum-circle/2026-07-30/
LOCATION:open-ended community art center\, 201 Daly Ave.\, Hamilton\, 59840
CATEGORIES:Community Events
ATTACH;FMTTYPE=image/png:https://bitterrootchamber.com/wp-content/uploads/2026/02/o-e-Drums.png
END:VEVENT
BEGIN:VEVENT
DTSTART;TZID=America/Denver:20260813T183000
DTEND;TZID=America/Denver:20260813T200000
DTSTAMP:20260423T162056
CREATED:20260203T233807Z
LAST-MODIFIED:20260203T234154Z
UID:10008306-1786645800-1786651200@bitterrootchamber.com
SUMMARY:Drum Circle
DESCRIPTION:Jerry leads this casual drumming session in the studio (and Tom usually joins him!). A great way to release tension\, have some fun\, and gather with new friends.\nNo skill or experience necessary. Just a willingness to try! All manner of percussive instruments available.\nNo need to register\, just show up/drop in\, between 6:30-8:00pm.\n$5-15 suggested donation.
URL:https://bitterrootchamber.com/event/drum-circle/2026-08-13/
LOCATION:open-ended community art center\, 201 Daly Ave.\, Hamilton\, 59840
CATEGORIES:Community Events
ATTACH;FMTTYPE=image/png:https://bitterrootchamber.com/wp-content/uploads/2026/02/o-e-Drums.png
END:VEVENT
BEGIN:VEVENT
DTSTART;TZID=America/Denver:20260827T183000
DTEND;TZID=America/Denver:20260827T200000
DTSTAMP:20260423T162056
CREATED:20260203T233807Z
LAST-MODIFIED:20260203T234154Z
UID:10008307-1787855400-1787860800@bitterrootchamber.com
SUMMARY:Drum Circle
DESCRIPTION:Jerry leads this casual drumming session in the studio (and Tom usually joins him!). A great way to release tension\, have some fun\, and gather with new friends.\nNo skill or experience necessary. Just a willingness to try! All manner of percussive instruments available.\nNo need to register\, just show up/drop in\, between 6:30-8:00pm.\n$5-15 suggested donation.
URL:https://bitterrootchamber.com/event/drum-circle/2026-08-27/
LOCATION:open-ended community art center\, 201 Daly Ave.\, Hamilton\, 59840
CATEGORIES:Community Events
ATTACH;FMTTYPE=image/png:https://bitterrootchamber.com/wp-content/uploads/2026/02/o-e-Drums.png
END:VEVENT
BEGIN:VEVENT
DTSTART;TZID=America/Denver:20260910T183000
DTEND;TZID=America/Denver:20260910T200000
DTSTAMP:20260423T162056
CREATED:20260203T233807Z
LAST-MODIFIED:20260203T234154Z
UID:10008308-1789065000-1789070400@bitterrootchamber.com
SUMMARY:Drum Circle
DESCRIPTION:Jerry leads this casual drumming session in the studio (and Tom usually joins him!). A great way to release tension\, have some fun\, and gather with new friends.\nNo skill or experience necessary. Just a willingness to try! All manner of percussive instruments available.\nNo need to register\, just show up/drop in\, between 6:30-8:00pm.\n$5-15 suggested donation.
URL:https://bitterrootchamber.com/event/drum-circle/2026-09-10/
LOCATION:open-ended community art center\, 201 Daly Ave.\, Hamilton\, 59840
CATEGORIES:Community Events
ATTACH;FMTTYPE=image/png:https://bitterrootchamber.com/wp-content/uploads/2026/02/o-e-Drums.png
END:VEVENT
BEGIN:VEVENT
DTSTART;TZID=America/Denver:20260924T183000
DTEND;TZID=America/Denver:20260924T200000
DTSTAMP:20260423T162056
CREATED:20260203T233807Z
LAST-MODIFIED:20260203T234154Z
UID:10008309-1790274600-1790280000@bitterrootchamber.com
SUMMARY:Drum Circle
DESCRIPTION:Jerry leads this casual drumming session in the studio (and Tom usually joins him!). A great way to release tension\, have some fun\, and gather with new friends.\nNo skill or experience necessary. Just a willingness to try! All manner of percussive instruments available.\nNo need to register\, just show up/drop in\, between 6:30-8:00pm.\n$5-15 suggested donation.
URL:https://bitterrootchamber.com/event/drum-circle/2026-09-24/
LOCATION:open-ended community art center\, 201 Daly Ave.\, Hamilton\, 59840
CATEGORIES:Community Events
ATTACH;FMTTYPE=image/png:https://bitterrootchamber.com/wp-content/uploads/2026/02/o-e-Drums.png
END:VEVENT
BEGIN:VEVENT
DTSTART;TZID=America/Denver:20261008T183000
DTEND;TZID=America/Denver:20261008T200000
DTSTAMP:20260423T162056
CREATED:20260203T233807Z
LAST-MODIFIED:20260203T234154Z
UID:10008310-1791484200-1791489600@bitterrootchamber.com
SUMMARY:Drum Circle
DESCRIPTION:Jerry leads this casual drumming session in the studio (and Tom usually joins him!). A great way to release tension\, have some fun\, and gather with new friends.\nNo skill or experience necessary. Just a willingness to try! All manner of percussive instruments available.\nNo need to register\, just show up/drop in\, between 6:30-8:00pm.\n$5-15 suggested donation.
URL:https://bitterrootchamber.com/event/drum-circle/2026-10-08/
LOCATION:open-ended community art center\, 201 Daly Ave.\, Hamilton\, 59840
CATEGORIES:Community Events
ATTACH;FMTTYPE=image/png:https://bitterrootchamber.com/wp-content/uploads/2026/02/o-e-Drums.png
END:VEVENT
BEGIN:VEVENT
DTSTART;TZID=America/Denver:20261022T183000
DTEND;TZID=America/Denver:20261022T200000
DTSTAMP:20260423T162056
CREATED:20260203T233807Z
LAST-MODIFIED:20260203T234154Z
UID:10008311-1792693800-1792699200@bitterrootchamber.com
SUMMARY:Drum Circle
DESCRIPTION:Jerry leads this casual drumming session in the studio (and Tom usually joins him!). A great way to release tension\, have some fun\, and gather with new friends.\nNo skill or experience necessary. Just a willingness to try! All manner of percussive instruments available.\nNo need to register\, just show up/drop in\, between 6:30-8:00pm.\n$5-15 suggested donation.
URL:https://bitterrootchamber.com/event/drum-circle/2026-10-22/
LOCATION:open-ended community art center\, 201 Daly Ave.\, Hamilton\, 59840
CATEGORIES:Community Events
ATTACH;FMTTYPE=image/png:https://bitterrootchamber.com/wp-content/uploads/2026/02/o-e-Drums.png
END:VEVENT
BEGIN:VEVENT
DTSTART;TZID=America/Denver:20261105T183000
DTEND;TZID=America/Denver:20261105T200000
DTSTAMP:20260423T162056
CREATED:20260203T233807Z
LAST-MODIFIED:20260203T234154Z
UID:10008312-1793903400-1793908800@bitterrootchamber.com
SUMMARY:Drum Circle
DESCRIPTION:Jerry leads this casual drumming session in the studio (and Tom usually joins him!). A great way to release tension\, have some fun\, and gather with new friends.\nNo skill or experience necessary. Just a willingness to try! All manner of percussive instruments available.\nNo need to register\, just show up/drop in\, between 6:30-8:00pm.\n$5-15 suggested donation.
URL:https://bitterrootchamber.com/event/drum-circle/2026-11-05/
LOCATION:open-ended community art center\, 201 Daly Ave.\, Hamilton\, 59840
CATEGORIES:Community Events
ATTACH;FMTTYPE=image/png:https://bitterrootchamber.com/wp-content/uploads/2026/02/o-e-Drums.png
END:VEVENT
BEGIN:VEVENT
DTSTART;TZID=America/Denver:20261119T183000
DTEND;TZID=America/Denver:20261119T200000
DTSTAMP:20260423T162056
CREATED:20260203T233807Z
LAST-MODIFIED:20260203T234154Z
UID:10008313-1795113000-1795118400@bitterrootchamber.com
SUMMARY:Drum Circle
DESCRIPTION:Jerry leads this casual drumming session in the studio (and Tom usually joins him!). A great way to release tension\, have some fun\, and gather with new friends.\nNo skill or experience necessary. Just a willingness to try! All manner of percussive instruments available.\nNo need to register\, just show up/drop in\, between 6:30-8:00pm.\n$5-15 suggested donation.
URL:https://bitterrootchamber.com/event/drum-circle/2026-11-19/
LOCATION:open-ended community art center\, 201 Daly Ave.\, Hamilton\, 59840
CATEGORIES:Community Events
ATTACH;FMTTYPE=image/png:https://bitterrootchamber.com/wp-content/uploads/2026/02/o-e-Drums.png
END:VEVENT
BEGIN:VEVENT
DTSTART;TZID=America/Denver:20261203T183000
DTEND;TZID=America/Denver:20261203T200000
DTSTAMP:20260423T162056
CREATED:20260203T233807Z
LAST-MODIFIED:20260203T234154Z
UID:10008314-1796322600-1796328000@bitterrootchamber.com
SUMMARY:Drum Circle
DESCRIPTION:Jerry leads this casual drumming session in the studio (and Tom usually joins him!). A great way to release tension\, have some fun\, and gather with new friends.\nNo skill or experience necessary. Just a willingness to try! All manner of percussive instruments available.\nNo need to register\, just show up/drop in\, between 6:30-8:00pm.\n$5-15 suggested donation.
URL:https://bitterrootchamber.com/event/drum-circle/2026-12-03/
LOCATION:open-ended community art center\, 201 Daly Ave.\, Hamilton\, 59840
CATEGORIES:Community Events
ATTACH;FMTTYPE=image/png:https://bitterrootchamber.com/wp-content/uploads/2026/02/o-e-Drums.png
END:VEVENT
BEGIN:VEVENT
DTSTART;TZID=America/Denver:20261217T183000
DTEND;TZID=America/Denver:20261217T200000
DTSTAMP:20260423T162056
CREATED:20260203T233807Z
LAST-MODIFIED:20260203T234154Z
UID:10008315-1797532200-1797537600@bitterrootchamber.com
SUMMARY:Drum Circle
DESCRIPTION:Jerry leads this casual drumming session in the studio (and Tom usually joins him!). A great way to release tension\, have some fun\, and gather with new friends.\nNo skill or experience necessary. Just a willingness to try! All manner of percussive instruments available.\nNo need to register\, just show up/drop in\, between 6:30-8:00pm.\n$5-15 suggested donation.
URL:https://bitterrootchamber.com/event/drum-circle/2026-12-17/
LOCATION:open-ended community art center\, 201 Daly Ave.\, Hamilton\, 59840
CATEGORIES:Community Events
ATTACH;FMTTYPE=image/png:https://bitterrootchamber.com/wp-content/uploads/2026/02/o-e-Drums.png
END:VEVENT
BEGIN:VEVENT
DTSTART;TZID=America/Denver:20261231T183000
DTEND;TZID=America/Denver:20261231T200000
DTSTAMP:20260423T162056
CREATED:20260203T233807Z
LAST-MODIFIED:20260203T234154Z
UID:10008316-1798741800-1798747200@bitterrootchamber.com
SUMMARY:Drum Circle
DESCRIPTION:Jerry leads this casual drumming session in the studio (and Tom usually joins him!). A great way to release tension\, have some fun\, and gather with new friends.\nNo skill or experience necessary. Just a willingness to try! All manner of percussive instruments available.\nNo need to register\, just show up/drop in\, between 6:30-8:00pm.\n$5-15 suggested donation.
URL:https://bitterrootchamber.com/event/drum-circle/2026-12-31/
LOCATION:open-ended community art center\, 201 Daly Ave.\, Hamilton\, 59840
CATEGORIES:Community Events
ATTACH;FMTTYPE=image/png:https://bitterrootchamber.com/wp-content/uploads/2026/02/o-e-Drums.png
END:VEVENT
BEGIN:VEVENT
DTSTART;TZID=America/Denver:20270114T183000
DTEND;TZID=America/Denver:20270114T200000
DTSTAMP:20260423T162056
CREATED:20260203T233807Z
LAST-MODIFIED:20260203T234154Z
UID:10008317-1799951400-1799956800@bitterrootchamber.com
SUMMARY:Drum Circle
DESCRIPTION:Jerry leads this casual drumming session in the studio (and Tom usually joins him!). A great way to release tension\, have some fun\, and gather with new friends.\nNo skill or experience necessary. Just a willingness to try! All manner of percussive instruments available.\nNo need to register\, just show up/drop in\, between 6:30-8:00pm.\n$5-15 suggested donation.
URL:https://bitterrootchamber.com/event/drum-circle/2027-01-14/
LOCATION:open-ended community art center\, 201 Daly Ave.\, Hamilton\, 59840
CATEGORIES:Community Events
ATTACH;FMTTYPE=image/png:https://bitterrootchamber.com/wp-content/uploads/2026/02/o-e-Drums.png
END:VEVENT
BEGIN:VEVENT
DTSTART;TZID=America/Denver:20270128T183000
DTEND;TZID=America/Denver:20270128T200000
DTSTAMP:20260423T162056
CREATED:20260203T233807Z
LAST-MODIFIED:20260203T234154Z
UID:10008318-1801161000-1801166400@bitterrootchamber.com
SUMMARY:Drum Circle
DESCRIPTION:Jerry leads this casual drumming session in the studio (and Tom usually joins him!). A great way to release tension\, have some fun\, and gather with new friends.\nNo skill or experience necessary. Just a willingness to try! All manner of percussive instruments available.\nNo need to register\, just show up/drop in\, between 6:30-8:00pm.\n$5-15 suggested donation.
URL:https://bitterrootchamber.com/event/drum-circle/2027-01-28/
LOCATION:open-ended community art center\, 201 Daly Ave.\, Hamilton\, 59840
CATEGORIES:Community Events
ATTACH;FMTTYPE=image/png:https://bitterrootchamber.com/wp-content/uploads/2026/02/o-e-Drums.png
END:VEVENT
BEGIN:VEVENT
DTSTART;TZID=America/Denver:20270211T183000
DTEND;TZID=America/Denver:20270211T200000
DTSTAMP:20260423T162056
CREATED:20260203T233807Z
LAST-MODIFIED:20260203T234154Z
UID:10008319-1802370600-1802376000@bitterrootchamber.com
SUMMARY:Drum Circle
DESCRIPTION:Jerry leads this casual drumming session in the studio (and Tom usually joins him!). A great way to release tension\, have some fun\, and gather with new friends.\nNo skill or experience necessary. Just a willingness to try! All manner of percussive instruments available.\nNo need to register\, just show up/drop in\, between 6:30-8:00pm.\n$5-15 suggested donation.
URL:https://bitterrootchamber.com/event/drum-circle/2027-02-11/
LOCATION:open-ended community art center\, 201 Daly Ave.\, Hamilton\, 59840
CATEGORIES:Community Events
ATTACH;FMTTYPE=image/png:https://bitterrootchamber.com/wp-content/uploads/2026/02/o-e-Drums.png
END:VEVENT
BEGIN:VEVENT
DTSTART;TZID=America/Denver:20270225T183000
DTEND;TZID=America/Denver:20270225T200000
DTSTAMP:20260423T162056
CREATED:20260203T233807Z
LAST-MODIFIED:20260203T234154Z
UID:10008320-1803580200-1803585600@bitterrootchamber.com
SUMMARY:Drum Circle
DESCRIPTION:Jerry leads this casual drumming session in the studio (and Tom usually joins him!). A great way to release tension\, have some fun\, and gather with new friends.\nNo skill or experience necessary. Just a willingness to try! All manner of percussive instruments available.\nNo need to register\, just show up/drop in\, between 6:30-8:00pm.\n$5-15 suggested donation.
URL:https://bitterrootchamber.com/event/drum-circle/2027-02-25/
LOCATION:open-ended community art center\, 201 Daly Ave.\, Hamilton\, 59840
CATEGORIES:Community Events
ATTACH;FMTTYPE=image/png:https://bitterrootchamber.com/wp-content/uploads/2026/02/o-e-Drums.png
END:VEVENT
BEGIN:VEVENT
DTSTART;TZID=America/Denver:20270311T183000
DTEND;TZID=America/Denver:20270311T200000
DTSTAMP:20260423T162056
CREATED:20260203T233807Z
LAST-MODIFIED:20260203T234154Z
UID:10008321-1804789800-1804795200@bitterrootchamber.com
SUMMARY:Drum Circle
DESCRIPTION:Jerry leads this casual drumming session in the studio (and Tom usually joins him!). A great way to release tension\, have some fun\, and gather with new friends.\nNo skill or experience necessary. Just a willingness to try! All manner of percussive instruments available.\nNo need to register\, just show up/drop in\, between 6:30-8:00pm.\n$5-15 suggested donation.
URL:https://bitterrootchamber.com/event/drum-circle/2027-03-11/
LOCATION:open-ended community art center\, 201 Daly Ave.\, Hamilton\, 59840
CATEGORIES:Community Events
ATTACH;FMTTYPE=image/png:https://bitterrootchamber.com/wp-content/uploads/2026/02/o-e-Drums.png
END:VEVENT
BEGIN:VEVENT
DTSTART;TZID=America/Denver:20270325T183000
DTEND;TZID=America/Denver:20270325T200000
DTSTAMP:20260423T162056
CREATED:20260203T233807Z
LAST-MODIFIED:20260203T234154Z
UID:10008322-1805999400-1806004800@bitterrootchamber.com
SUMMARY:Drum Circle
DESCRIPTION:Jerry leads this casual drumming session in the studio (and Tom usually joins him!). A great way to release tension\, have some fun\, and gather with new friends.\nNo skill or experience necessary. Just a willingness to try! All manner of percussive instruments available.\nNo need to register\, just show up/drop in\, between 6:30-8:00pm.\n$5-15 suggested donation.
URL:https://bitterrootchamber.com/event/drum-circle/2027-03-25/
LOCATION:open-ended community art center\, 201 Daly Ave.\, Hamilton\, 59840
CATEGORIES:Community Events
ATTACH;FMTTYPE=image/png:https://bitterrootchamber.com/wp-content/uploads/2026/02/o-e-Drums.png
END:VEVENT
BEGIN:VEVENT
DTSTART;TZID=America/Denver:20270408T183000
DTEND;TZID=America/Denver:20270408T200000
DTSTAMP:20260423T162056
CREATED:20260203T233807Z
LAST-MODIFIED:20260203T234154Z
UID:10008323-1807209000-1807214400@bitterrootchamber.com
SUMMARY:Drum Circle
DESCRIPTION:Jerry leads this casual drumming session in the studio (and Tom usually joins him!). A great way to release tension\, have some fun\, and gather with new friends.\nNo skill or experience necessary. Just a willingness to try! All manner of percussive instruments available.\nNo need to register\, just show up/drop in\, between 6:30-8:00pm.\n$5-15 suggested donation.
URL:https://bitterrootchamber.com/event/drum-circle/2027-04-08/
LOCATION:open-ended community art center\, 201 Daly Ave.\, Hamilton\, 59840
CATEGORIES:Community Events
ATTACH;FMTTYPE=image/png:https://bitterrootchamber.com/wp-content/uploads/2026/02/o-e-Drums.png
END:VEVENT
BEGIN:VEVENT
DTSTART;TZID=America/Denver:20270422T183000
DTEND;TZID=America/Denver:20270422T200000
DTSTAMP:20260423T162056
CREATED:20260203T233807Z
LAST-MODIFIED:20260203T234154Z
UID:10008324-1808418600-1808424000@bitterrootchamber.com
SUMMARY:Drum Circle
DESCRIPTION:Jerry leads this casual drumming session in the studio (and Tom usually joins him!). A great way to release tension\, have some fun\, and gather with new friends.\nNo skill or experience necessary. Just a willingness to try! All manner of percussive instruments available.\nNo need to register\, just show up/drop in\, between 6:30-8:00pm.\n$5-15 suggested donation.
URL:https://bitterrootchamber.com/event/drum-circle/2027-04-22/
LOCATION:open-ended community art center\, 201 Daly Ave.\, Hamilton\, 59840
CATEGORIES:Community Events
ATTACH;FMTTYPE=image/png:https://bitterrootchamber.com/wp-content/uploads/2026/02/o-e-Drums.png
END:VEVENT
BEGIN:VEVENT
DTSTART;TZID=America/Denver:20270506T183000
DTEND;TZID=America/Denver:20270506T200000
DTSTAMP:20260423T162056
CREATED:20260203T233807Z
LAST-MODIFIED:20260203T234154Z
UID:10008325-1809628200-1809633600@bitterrootchamber.com
SUMMARY:Drum Circle
DESCRIPTION:Jerry leads this casual drumming session in the studio (and Tom usually joins him!). A great way to release tension\, have some fun\, and gather with new friends.\nNo skill or experience necessary. Just a willingness to try! All manner of percussive instruments available.\nNo need to register\, just show up/drop in\, between 6:30-8:00pm.\n$5-15 suggested donation.
URL:https://bitterrootchamber.com/event/drum-circle/2027-05-06/
LOCATION:open-ended community art center\, 201 Daly Ave.\, Hamilton\, 59840
CATEGORIES:Community Events
ATTACH;FMTTYPE=image/png:https://bitterrootchamber.com/wp-content/uploads/2026/02/o-e-Drums.png
END:VEVENT
BEGIN:VEVENT
DTSTART;TZID=America/Denver:20270520T183000
DTEND;TZID=America/Denver:20270520T200000
DTSTAMP:20260423T162056
CREATED:20260203T233807Z
LAST-MODIFIED:20260203T234154Z
UID:10008326-1810837800-1810843200@bitterrootchamber.com
SUMMARY:Drum Circle
DESCRIPTION:Jerry leads this casual drumming session in the studio (and Tom usually joins him!). A great way to release tension\, have some fun\, and gather with new friends.\nNo skill or experience necessary. Just a willingness to try! All manner of percussive instruments available.\nNo need to register\, just show up/drop in\, between 6:30-8:00pm.\n$5-15 suggested donation.
URL:https://bitterrootchamber.com/event/drum-circle/2027-05-20/
LOCATION:open-ended community art center\, 201 Daly Ave.\, Hamilton\, 59840
CATEGORIES:Community Events
ATTACH;FMTTYPE=image/png:https://bitterrootchamber.com/wp-content/uploads/2026/02/o-e-Drums.png
END:VEVENT
BEGIN:VEVENT
DTSTART;TZID=America/Denver:20270603T183000
DTEND;TZID=America/Denver:20270603T200000
DTSTAMP:20260423T162056
CREATED:20260203T233807Z
LAST-MODIFIED:20260203T234154Z
UID:10008327-1812047400-1812052800@bitterrootchamber.com
SUMMARY:Drum Circle
DESCRIPTION:Jerry leads this casual drumming session in the studio (and Tom usually joins him!). A great way to release tension\, have some fun\, and gather with new friends.\nNo skill or experience necessary. Just a willingness to try! All manner of percussive instruments available.\nNo need to register\, just show up/drop in\, between 6:30-8:00pm.\n$5-15 suggested donation.
URL:https://bitterrootchamber.com/event/drum-circle/2027-06-03/
LOCATION:open-ended community art center\, 201 Daly Ave.\, Hamilton\, 59840
CATEGORIES:Community Events
ATTACH;FMTTYPE=image/png:https://bitterrootchamber.com/wp-content/uploads/2026/02/o-e-Drums.png
END:VEVENT
END:VCALENDAR