BEGIN:VCALENDAR
VERSION:2.0
PRODID:-//Bitterroot Valley Chamber of Commerce - ECPv6.15.15//NONSGML v1.0//EN
CALSCALE:GREGORIAN
METHOD:PUBLISH
X-WR-CALNAME:Bitterroot Valley Chamber of Commerce
X-ORIGINAL-URL:https://bitterrootchamber.com
X-WR-CALDESC:Events for Bitterroot Valley Chamber of Commerce
REFRESH-INTERVAL;VALUE=DURATION:PT1H
X-Robots-Tag:noindex
X-PUBLISHED-TTL:PT1H
BEGIN:VTIMEZONE
TZID:America/Denver
BEGIN:DAYLIGHT
TZOFFSETFROM:-0700
TZOFFSETTO:-0600
TZNAME:MDT
DTSTART:20250309T090000
END:DAYLIGHT
BEGIN:STANDARD
TZOFFSETFROM:-0600
TZOFFSETTO:-0700
TZNAME:MST
DTSTART:20251102T080000
END:STANDARD
BEGIN:DAYLIGHT
TZOFFSETFROM:-0700
TZOFFSETTO:-0600
TZNAME:MDT
DTSTART:20260308T090000
END:DAYLIGHT
BEGIN:STANDARD
TZOFFSETFROM:-0600
TZOFFSETTO:-0700
TZNAME:MST
DTSTART:20261101T080000
END:STANDARD
BEGIN:DAYLIGHT
TZOFFSETFROM:-0700
TZOFFSETTO:-0600
TZNAME:MDT
DTSTART:20270314T090000
END:DAYLIGHT
BEGIN:STANDARD
TZOFFSETFROM:-0600
TZOFFSETTO:-0700
TZNAME:MST
DTSTART:20271107T080000
END:STANDARD
END:VTIMEZONE
BEGIN:VEVENT
DTSTART;TZID=America/Denver:20260509T090000
DTEND;TZID=America/Denver:20260509T140000
DTSTAMP:20260422T180635
CREATED:20260422T195854Z
LAST-MODIFIED:20260422T195854Z
UID:10009679-1778317200-1778335200@bitterrootchamber.com
SUMMARY:Blooms for Mom
DESCRIPTION:While you shop\, kids can swing by our planting station and pot a flower for the special lady in their life.\nPots\, soil\, flowers\, and decorating supplies are all provided.Kids bring the creativity.\nA sweet\, hands‑on gift made with love.\n9 AM–2 PM • Downtown StevensvilleFree while supplies last
URL:https://bitterrootchamber.com/event/blooms-for-mom/
LOCATION:Stevensville Harvest Valley Farmers Market\, West 3rd and Main St.\, Stevensville\, M\, 59870\, United States
CATEGORIES:Community Events
ATTACH;FMTTYPE=image/png:https://bitterrootchamber.com/wp-content/uploads/2026/04/blooms26.png
ORGANIZER;CN="SteviHVFM":MAILTO:stevihvfm@gmail.com
END:VEVENT
BEGIN:VEVENT
DTSTART;TZID=America/Denver:20260620T090000
DTEND;TZID=America/Denver:20260620T140000
DTSTAMP:20260422T180635
CREATED:20260422T195716Z
LAST-MODIFIED:20260422T195716Z
UID:10009680-1781946000-1781964000@bitterrootchamber.com
SUMMARY:Father’s Day Hot Rod Car Show
DESCRIPTION:Join us for the Stevensville Farmers Market\, 5th Annual Hot Rod Father’s Day Car Show in the heart of Downtown Stevensville\, Saturday\, June 20. Enjoy classic cars\, muscle builds\, custom restorations\, and family‑friendly fun. \nThe event features cash prizes\, a 50/50 drawing\, and raffles throughout the day. Proceeds going to Lewis and Clark Park security. \nPresented by Jeff’s Towing and Newsom Tires\, bringing the heat with cash prizes\, 50/50 drawings\, and raffles!
URL:https://bitterrootchamber.com/event/fathers-day-hot-rod-car-show/
LOCATION:Stevensville Harvest Valley Farmers Market\, West 3rd and Main St.\, Stevensville\, M\, 59870\, United States
CATEGORIES:Community Events
ATTACH;FMTTYPE=image/jpeg:https://bitterrootchamber.com/wp-content/uploads/2026/04/image_1776781137423.jpeg
ORGANIZER;CN="SteviHVFM":MAILTO:stevihvfm@gmail.com
END:VEVENT
END:VCALENDAR